BEGIN:VCALENDAR
VERSION:2.0
PRODID:-//Six Mile Regional Library District - ECPv6.15.17//NONSGML v1.0//EN
CALSCALE:GREGORIAN
METHOD:PUBLISH
X-ORIGINAL-URL:https://www.smrld.org
X-WR-CALDESC:Events for Six Mile Regional Library District
REFRESH-INTERVAL;VALUE=DURATION:PT1H
X-Robots-Tag:noindex
X-PUBLISHED-TTL:PT1H
BEGIN:VTIMEZONE
TZID:America/Chicago
BEGIN:DAYLIGHT
TZOFFSETFROM:-0600
TZOFFSETTO:-0500
TZNAME:CDT
DTSTART:20210314T080000
END:DAYLIGHT
BEGIN:STANDARD
TZOFFSETFROM:-0500
TZOFFSETTO:-0600
TZNAME:CST
DTSTART:20211107T070000
END:STANDARD
BEGIN:DAYLIGHT
TZOFFSETFROM:-0600
TZOFFSETTO:-0500
TZNAME:CDT
DTSTART:20220313T080000
END:DAYLIGHT
BEGIN:STANDARD
TZOFFSETFROM:-0500
TZOFFSETTO:-0600
TZNAME:CST
DTSTART:20221106T070000
END:STANDARD
BEGIN:DAYLIGHT
TZOFFSETFROM:-0600
TZOFFSETTO:-0500
TZNAME:CDT
DTSTART:20230312T080000
END:DAYLIGHT
BEGIN:STANDARD
TZOFFSETFROM:-0500
TZOFFSETTO:-0600
TZNAME:CST
DTSTART:20231105T070000
END:STANDARD
END:VTIMEZONE
BEGIN:VEVENT
DTSTART;VALUE=DATE:20221001
DTEND;VALUE=DATE:20221101
DTSTAMP:20260421T042243
CREATED:20220808T213853Z
LAST-MODIFIED:20220808T213853Z
UID:10007160-1664582400-1667260799@www.smrld.org
SUMMARY:4rd Annual IHLS Library Crawl!
DESCRIPTION:4rd Annual IHLS Library Crawl!\nOctober 1st through 31st\nCheck out some of our neighboring libraries this Fall \nThe crawl passports will be available September 30th at both libraries.\nVisit 5 libraries by October 31st and you will be entered into a drawing for a Quick Trip gift card!\nPassports must be turned in by November 1st.\nQuestions? Email research@smrld.org or call 618-452-6238 ext. 755
URL:https://www.smrld.org/event/4rd-annual-ihls-library-crawl/
LOCATION:IL
CATEGORIES:All Ages
END:VEVENT
BEGIN:VEVENT
DTSTART;TZID=America/Chicago:20221006T163000
DTEND;TZID=America/Chicago:20221006T200000
DTSTAMP:20260421T042243
CREATED:20220907T181011Z
LAST-MODIFIED:20221013T221027Z
UID:10007196-1665073800-1665086400@www.smrld.org
SUMMARY:America Reads Tutor Available for Students\, K-12 Grade
DESCRIPTION:America Reads Tutor Available for Students\, K-12 Grade\n1 Hour Sessions\nFirst Come\, First Served\nEvery Thursday from 4:30-8 PM\, Every Friday from 4-6 PM\, Every Saturday from 9AM-6 PM.\nSMRLD\, Youth Services Dept.\, 2001 Delmar Ave\nQuestions? Call 618-452-6238 ext 720.
URL:https://www.smrld.org/event/america-reads-tutor-available-for-students-k-12-grade-3/2022-10-06/
LOCATION:Niedringhaus Building\, 2001 Delmar Avenue\, Granite City\, IL\, 62040\, United States
CATEGORIES:Kids,Teens
END:VEVENT
BEGIN:VEVENT
DTSTART;TZID=America/Chicago:20221007T160000
DTEND;TZID=America/Chicago:20221007T180000
DTSTAMP:20260421T042243
CREATED:20230209T190053Z
LAST-MODIFIED:20230209T190053Z
UID:10007201-1665158400-1665165600@www.smrld.org
SUMMARY:America Reads Tutor Available for Students\, K-12 Grade
DESCRIPTION:America Reads Tutor Available for Students\, K-12 Grade\n1 Hour Sessions\nFirst Come\, First Served\nEvery Thursday from 4:30-8 PM\, Every Friday from 4-6 PM\, Every Saturday from 9AM-6 PM.\nSMRLD\, Youth Services Dept.\, 2001 Delmar Ave\nQuestions? Call 618-452-6238 ext 720.
URL:https://www.smrld.org/event/america-reads-tutor-available-for-students-k-12-grade-3/2022-10-07/
LOCATION:Niedringhaus Building\, 2001 Delmar Avenue\, Granite City\, IL\, 62040\, United States
CATEGORIES:Kids,Teens
END:VEVENT
BEGIN:VEVENT
DTSTART;TZID=America/Chicago:20221008T090000
DTEND;TZID=America/Chicago:20221008T180000
DTSTAMP:20260421T042243
CREATED:20230209T190054Z
LAST-MODIFIED:20230209T190054Z
UID:10007207-1665219600-1665252000@www.smrld.org
SUMMARY:America Reads Tutor Available for Students\, K-12 Grade
DESCRIPTION:America Reads Tutor Available for Students\, K-12 Grade\n1 Hour Sessions\nFirst Come\, First Served\nEvery Thursday from 4:30-8 PM\, Every Friday from 4-6 PM\, Every Saturday from 9AM-6 PM.\nSMRLD\, Youth Services Dept.\, 2001 Delmar Ave\nQuestions? Call 618-452-6238 ext 720.
URL:https://www.smrld.org/event/america-reads-tutor-available-for-students-k-12-grade-3/2022-10-08/
LOCATION:Niedringhaus Building\, 2001 Delmar Avenue\, Granite City\, IL\, 62040\, United States
CATEGORIES:Kids,Teens
END:VEVENT
BEGIN:VEVENT
DTSTART;TZID=America/Chicago:20221008T120000
DTEND;TZID=America/Chicago:20221008T130000
DTSTAMP:20260421T042243
CREATED:20220808T221256Z
LAST-MODIFIED:20220808T221256Z
UID:10007174-1665230400-1665234000@www.smrld.org
SUMMARY:TAG = Teen Advisory Group
DESCRIPTION:TAG = Teen Advisory Group\nTAG is for volunteers ages 13-17 who use their voice to improve the library’s teen services\, materials\, and so much more!\n\n\nMeetings are 12-1 PM @ 2001 Delmar Ave\nSaturday\,\nSept. 17\, Oct. 8\, Nov. 19\nTell us what you think!\nQuestions? Email ys@smrld.org or call the Youth Services department at 618-452-6238 ext 720
URL:https://www.smrld.org/event/tag-teen-advisory-group-11/2022-10-08/
LOCATION:Niedringhaus Building\, 2001 Delmar Avenue\, Granite City\, IL\, 62040\, United States
CATEGORIES:Teens
END:VEVENT
BEGIN:VEVENT
DTSTART;TZID=America/Chicago:20221008T130000
DTEND;TZID=America/Chicago:20221008T160000
DTSTAMP:20260421T042243
CREATED:20211117T173519Z
LAST-MODIFIED:20230516T172624Z
UID:10006959-1665234000-1665244800@www.smrld.org
SUMMARY:Nintendo Switch
DESCRIPTION:Nintendo Switch\nEvery Saturday\, 1-4 PM\nTeen Room\, 2001 Delmar Ave\nGrades 7-12\nFor more information email: ysmanager@smrld.org
URL:https://www.smrld.org/event/nintendo-switch-2/2022-10-08/
LOCATION:Niedringhaus Building\, 2001 Delmar Avenue\, Granite City\, IL\, 62040\, United States
CATEGORIES:Teens
END:VEVENT
BEGIN:VEVENT
DTSTART;TZID=America/Chicago:20221008T130000
DTEND;TZID=America/Chicago:20221008T160000
DTSTAMP:20260421T042243
CREATED:20211117T173519Z
LAST-MODIFIED:20230608T233352Z
UID:10007479-1665234000-1665244800@www.smrld.org
SUMMARY:Nintendo Switch
DESCRIPTION:Nintendo Switch\nEvery Saturday\, 1-4 PM\nTeen Room\, 2001 Delmar Ave\nGrades 7-12\nFor more information email: ysmanager@smrld.org
URL:https://www.smrld.org/event/nintendo-switch-2/2022-10-08/
LOCATION:Niedringhaus Building\, 2001 Delmar Avenue\, Granite City\, IL\, 62040\, United States
CATEGORIES:Teens
END:VEVENT
BEGIN:VEVENT
DTSTART;TZID=America/Chicago:20221008T130000
DTEND;TZID=America/Chicago:20221008T160000
DTSTAMP:20260421T042243
CREATED:20211117T173519Z
LAST-MODIFIED:20230608T233357Z
UID:10007854-1665234000-1665244800@www.smrld.org
SUMMARY:Nintendo Switch
DESCRIPTION:Nintendo Switch\nEvery Saturday\, 1-4 PM\nTeen Room\, 2001 Delmar Ave\nGrades 7-12\nFor more information email: ysmanager@smrld.org
URL:https://www.smrld.org/event/nintendo-switch-2/2022-10-08/
LOCATION:Niedringhaus Building\, 2001 Delmar Avenue\, Granite City\, IL\, 62040\, United States
CATEGORIES:Teens
END:VEVENT
BEGIN:VEVENT
DTSTART;TZID=America/Chicago:20221008T130000
DTEND;TZID=America/Chicago:20221008T160000
DTSTAMP:20260421T042243
CREATED:20211117T173519Z
LAST-MODIFIED:20230608T233358Z
UID:10007913-1665234000-1665244800@www.smrld.org
SUMMARY:Nintendo Switch
DESCRIPTION:Nintendo Switch\nEvery Saturday\, 1-4 PM\nTeen Room\, 2001 Delmar Ave\nGrades 7-12\nFor more information email: ysmanager@smrld.org
URL:https://www.smrld.org/event/nintendo-switch-2/2022-10-08/
LOCATION:Niedringhaus Building\, 2001 Delmar Avenue\, Granite City\, IL\, 62040\, United States
CATEGORIES:Teens
END:VEVENT
BEGIN:VEVENT
DTSTART;TZID=America/Chicago:20221008T130000
DTEND;TZID=America/Chicago:20221008T160000
DTSTAMP:20260421T042243
CREATED:20211117T173519Z
LAST-MODIFIED:20230608T233359Z
UID:10007971-1665234000-1665244800@www.smrld.org
SUMMARY:Nintendo Switch
DESCRIPTION:Nintendo Switch\nEvery Saturday\, 1-4 PM\nTeen Room\, 2001 Delmar Ave\nGrades 7-12\nFor more information email: ysmanager@smrld.org
URL:https://www.smrld.org/event/nintendo-switch-2/2022-10-08/
LOCATION:Niedringhaus Building\, 2001 Delmar Avenue\, Granite City\, IL\, 62040\, United States
CATEGORIES:Teens
END:VEVENT
BEGIN:VEVENT
DTSTART;TZID=America/Chicago:20221008T130000
DTEND;TZID=America/Chicago:20221008T160000
DTSTAMP:20260421T042243
CREATED:20211117T173519Z
LAST-MODIFIED:20230608T233400Z
UID:10008028-1665234000-1665244800@www.smrld.org
SUMMARY:Nintendo Switch
DESCRIPTION:Nintendo Switch\nEvery Saturday\, 1-4 PM\nTeen Room\, 2001 Delmar Ave\nGrades 7-12\nFor more information email: ysmanager@smrld.org
URL:https://www.smrld.org/event/nintendo-switch-2/2022-10-08/
LOCATION:Niedringhaus Building\, 2001 Delmar Avenue\, Granite City\, IL\, 62040\, United States
CATEGORIES:Teens
END:VEVENT
BEGIN:VEVENT
DTSTART;TZID=America/Chicago:20221008T130000
DTEND;TZID=America/Chicago:20221008T160000
DTSTAMP:20260421T042243
CREATED:20211117T173519Z
LAST-MODIFIED:20230608T233403Z
UID:10008246-1665234000-1665244800@www.smrld.org
SUMMARY:Nintendo Switch
DESCRIPTION:Nintendo Switch\nEvery Saturday\, 1-4 PM\nTeen Room\, 2001 Delmar Ave\nGrades 7-12\nFor more information email: ysmanager@smrld.org
URL:https://www.smrld.org/event/nintendo-switch-2/2022-10-08/
LOCATION:Niedringhaus Building\, 2001 Delmar Avenue\, Granite City\, IL\, 62040\, United States
CATEGORIES:Teens
END:VEVENT
BEGIN:VEVENT
DTSTART;TZID=America/Chicago:20221008T130000
DTEND;TZID=America/Chicago:20221008T160000
DTSTAMP:20260421T042243
CREATED:20211117T173519Z
LAST-MODIFIED:20230608T233404Z
UID:10008401-1665234000-1665244800@www.smrld.org
SUMMARY:Nintendo Switch
DESCRIPTION:Nintendo Switch\nEvery Saturday\, 1-4 PM\nTeen Room\, 2001 Delmar Ave\nGrades 7-12\nFor more information email: ysmanager@smrld.org
URL:https://www.smrld.org/event/nintendo-switch-2/2022-10-08/
LOCATION:Niedringhaus Building\, 2001 Delmar Avenue\, Granite City\, IL\, 62040\, United States
CATEGORIES:Teens
END:VEVENT
BEGIN:VEVENT
DTSTART;TZID=America/Chicago:20221008T130000
DTEND;TZID=America/Chicago:20221008T160000
DTSTAMP:20260421T042243
CREATED:20211117T173519Z
LAST-MODIFIED:20230608T233405Z
UID:10008451-1665234000-1665244800@www.smrld.org
SUMMARY:Nintendo Switch
DESCRIPTION:Nintendo Switch\nEvery Saturday\, 1-4 PM\nTeen Room\, 2001 Delmar Ave\nGrades 7-12\nFor more information email: ysmanager@smrld.org
URL:https://www.smrld.org/event/nintendo-switch-2/2022-10-08/
LOCATION:Niedringhaus Building\, 2001 Delmar Avenue\, Granite City\, IL\, 62040\, United States
CATEGORIES:Teens
END:VEVENT
BEGIN:VEVENT
DTSTART;TZID=America/Chicago:20221008T130000
DTEND;TZID=America/Chicago:20221008T160000
DTSTAMP:20260421T042243
CREATED:20211117T173519Z
LAST-MODIFIED:20230608T233406Z
UID:10008500-1665234000-1665244800@www.smrld.org
SUMMARY:Nintendo Switch
DESCRIPTION:Nintendo Switch\nEvery Saturday\, 1-4 PM\nTeen Room\, 2001 Delmar Ave\nGrades 7-12\nFor more information email: ysmanager@smrld.org
URL:https://www.smrld.org/event/nintendo-switch-2/2022-10-08/
LOCATION:Niedringhaus Building\, 2001 Delmar Avenue\, Granite City\, IL\, 62040\, United States
CATEGORIES:Teens
END:VEVENT
BEGIN:VEVENT
DTSTART;TZID=America/Chicago:20221008T130000
DTEND;TZID=America/Chicago:20221008T160000
DTSTAMP:20260421T042243
CREATED:20211117T173519Z
LAST-MODIFIED:20230608T233407Z
UID:10008548-1665234000-1665244800@www.smrld.org
SUMMARY:Nintendo Switch
DESCRIPTION:Nintendo Switch\nEvery Saturday\, 1-4 PM\nTeen Room\, 2001 Delmar Ave\nGrades 7-12\nFor more information email: ysmanager@smrld.org
URL:https://www.smrld.org/event/nintendo-switch-2/2022-10-08/
LOCATION:Niedringhaus Building\, 2001 Delmar Avenue\, Granite City\, IL\, 62040\, United States
CATEGORIES:Teens
END:VEVENT
BEGIN:VEVENT
DTSTART;TZID=America/Chicago:20221008T130000
DTEND;TZID=America/Chicago:20221008T160000
DTSTAMP:20260421T042243
CREATED:20211117T173519Z
LAST-MODIFIED:20230608T233408Z
UID:10008595-1665234000-1665244800@www.smrld.org
SUMMARY:Nintendo Switch
DESCRIPTION:Nintendo Switch\nEvery Saturday\, 1-4 PM\nTeen Room\, 2001 Delmar Ave\nGrades 7-12\nFor more information email: ysmanager@smrld.org
URL:https://www.smrld.org/event/nintendo-switch-2/2022-10-08/
LOCATION:Niedringhaus Building\, 2001 Delmar Avenue\, Granite City\, IL\, 62040\, United States
CATEGORIES:Teens
END:VEVENT
BEGIN:VEVENT
DTSTART;TZID=America/Chicago:20221008T130000
DTEND;TZID=America/Chicago:20221008T160000
DTSTAMP:20260421T042243
CREATED:20211117T173519Z
LAST-MODIFIED:20230608T233353Z
UID:10009465-1665234000-1665244800@www.smrld.org
SUMMARY:Nintendo Switch
DESCRIPTION:Nintendo Switch\nEvery Saturday\, 1-4 PM\nTeen Room\, 2001 Delmar Ave\nGrades 7-12\nFor more information email: ysmanager@smrld.org
URL:https://www.smrld.org/event/nintendo-switch-2/2022-10-08/
LOCATION:Niedringhaus Building\, 2001 Delmar Avenue\, Granite City\, IL\, 62040\, United States
CATEGORIES:Teens
END:VEVENT
BEGIN:VEVENT
DTSTART;TZID=America/Chicago:20221008T130000
DTEND;TZID=America/Chicago:20221008T160000
DTSTAMP:20260421T042243
CREATED:20211117T173519Z
LAST-MODIFIED:20230608T233355Z
UID:10009528-1665234000-1665244800@www.smrld.org
SUMMARY:Nintendo Switch
DESCRIPTION:Nintendo Switch\nEvery Saturday\, 1-4 PM\nTeen Room\, 2001 Delmar Ave\nGrades 7-12\nFor more information email: ysmanager@smrld.org
URL:https://www.smrld.org/event/nintendo-switch-2/2022-10-08/
LOCATION:Niedringhaus Building\, 2001 Delmar Avenue\, Granite City\, IL\, 62040\, United States
CATEGORIES:Teens
END:VEVENT
BEGIN:VEVENT
DTSTART;TZID=America/Chicago:20221008T130000
DTEND;TZID=America/Chicago:20221008T160000
DTSTAMP:20260421T042244
CREATED:20211117T173519Z
LAST-MODIFIED:20230608T233355Z
UID:10009697-1665234000-1665244800@www.smrld.org
SUMMARY:Nintendo Switch
DESCRIPTION:Nintendo Switch\nEvery Saturday\, 1-4 PM\nTeen Room\, 2001 Delmar Ave\nGrades 7-12\nFor more information email: ysmanager@smrld.org
URL:https://www.smrld.org/event/nintendo-switch-2/2022-10-08/
LOCATION:Niedringhaus Building\, 2001 Delmar Avenue\, Granite City\, IL\, 62040\, United States
CATEGORIES:Teens
END:VEVENT
BEGIN:VEVENT
DTSTART;TZID=America/Chicago:20221008T130000
DTEND;TZID=America/Chicago:20221008T160000
DTSTAMP:20260421T042244
CREATED:20211117T173519Z
LAST-MODIFIED:20230608T233404Z
UID:10010009-1665234000-1665244800@www.smrld.org
SUMMARY:Nintendo Switch
DESCRIPTION:Nintendo Switch\nEvery Saturday\, 1-4 PM\nTeen Room\, 2001 Delmar Ave\nGrades 7-12\nFor more information email: ysmanager@smrld.org
URL:https://www.smrld.org/event/nintendo-switch-2/2022-10-08/
LOCATION:Niedringhaus Building\, 2001 Delmar Avenue\, Granite City\, IL\, 62040\, United States
CATEGORIES:Teens
END:VEVENT
BEGIN:VEVENT
DTSTART;TZID=America/Chicago:20221008T130000
DTEND;TZID=America/Chicago:20221008T160000
DTSTAMP:20260421T042244
CREATED:20211117T173519Z
LAST-MODIFIED:20230608T233401Z
UID:10010064-1665234000-1665244800@www.smrld.org
SUMMARY:Nintendo Switch
DESCRIPTION:Nintendo Switch\nEvery Saturday\, 1-4 PM\nTeen Room\, 2001 Delmar Ave\nGrades 7-12\nFor more information email: ysmanager@smrld.org
URL:https://www.smrld.org/event/nintendo-switch-2/2022-10-08/
LOCATION:Niedringhaus Building\, 2001 Delmar Avenue\, Granite City\, IL\, 62040\, United States
CATEGORIES:Teens
END:VEVENT
BEGIN:VEVENT
DTSTART;TZID=America/Chicago:20221008T130000
DTEND;TZID=America/Chicago:20221008T160000
DTSTAMP:20260421T042244
CREATED:20211117T173519Z
LAST-MODIFIED:20230608T233400Z
UID:10010257-1665234000-1665244800@www.smrld.org
SUMMARY:Nintendo Switch
DESCRIPTION:Nintendo Switch\nEvery Saturday\, 1-4 PM\nTeen Room\, 2001 Delmar Ave\nGrades 7-12\nFor more information email: ysmanager@smrld.org
URL:https://www.smrld.org/event/nintendo-switch-2/2022-10-08/
LOCATION:Niedringhaus Building\, 2001 Delmar Avenue\, Granite City\, IL\, 62040\, United States
CATEGORIES:Teens
END:VEVENT
BEGIN:VEVENT
DTSTART;TZID=America/Chicago:20221008T130000
DTEND;TZID=America/Chicago:20221008T160000
DTSTAMP:20260421T042244
CREATED:20211117T173519Z
LAST-MODIFIED:20230608T233354Z
UID:10010380-1665234000-1665244800@www.smrld.org
SUMMARY:Nintendo Switch
DESCRIPTION:Nintendo Switch\nEvery Saturday\, 1-4 PM\nTeen Room\, 2001 Delmar Ave\nGrades 7-12\nFor more information email: ysmanager@smrld.org
URL:https://www.smrld.org/event/nintendo-switch-2/2022-10-08/
LOCATION:Niedringhaus Building\, 2001 Delmar Avenue\, Granite City\, IL\, 62040\, United States
CATEGORIES:Teens
END:VEVENT
BEGIN:VEVENT
DTSTART;TZID=America/Chicago:20221008T130000
DTEND;TZID=America/Chicago:20221008T160000
DTSTAMP:20260421T042244
CREATED:20211117T173519Z
LAST-MODIFIED:20230608T233402Z
UID:10010474-1665234000-1665244800@www.smrld.org
SUMMARY:Nintendo Switch
DESCRIPTION:Nintendo Switch\nEvery Saturday\, 1-4 PM\nTeen Room\, 2001 Delmar Ave\nGrades 7-12\nFor more information email: ysmanager@smrld.org
URL:https://www.smrld.org/event/nintendo-switch-2/2022-10-08/
LOCATION:Niedringhaus Building\, 2001 Delmar Avenue\, Granite City\, IL\, 62040\, United States
CATEGORIES:Teens
END:VEVENT
BEGIN:VEVENT
DTSTART;TZID=America/Chicago:20221008T130000
DTEND;TZID=America/Chicago:20221008T160000
DTSTAMP:20260421T042244
CREATED:20211117T173519Z
LAST-MODIFIED:20230608T233356Z
UID:10010673-1665234000-1665244800@www.smrld.org
SUMMARY:Nintendo Switch
DESCRIPTION:Nintendo Switch\nEvery Saturday\, 1-4 PM\nTeen Room\, 2001 Delmar Ave\nGrades 7-12\nFor more information email: ysmanager@smrld.org
URL:https://www.smrld.org/event/nintendo-switch-2/2022-10-08/
LOCATION:Niedringhaus Building\, 2001 Delmar Avenue\, Granite City\, IL\, 62040\, United States
CATEGORIES:Teens
END:VEVENT
BEGIN:VEVENT
DTSTART;TZID=America/Chicago:20221011T170000
DTEND;TZID=America/Chicago:20221011T190000
DTSTAMP:20260421T042244
CREATED:20210818T164027Z
LAST-MODIFIED:20230608T233429Z
UID:10010814-1665507600-1665514800@www.smrld.org
SUMMARY:Legos
DESCRIPTION:Legos\nCome Build with Us!\nEvery Tuesday\n5 – 7 PM\nIn the Children’s Department\, 2001 Delmar Ave\nQuestions? Call the Youth Services department at 618-452-6238
URL:https://www.smrld.org/event/legos/2022-10-11/
LOCATION:Niedringhaus Building\, 2001 Delmar Avenue\, Granite City\, IL\, 62040\, United States
CATEGORIES:Kids
END:VEVENT
BEGIN:VEVENT
DTSTART;TZID=America/Chicago:20221011T170000
DTEND;TZID=America/Chicago:20221011T190000
DTSTAMP:20260421T042244
CREATED:20210818T164027Z
LAST-MODIFIED:20230608T233430Z
UID:10010910-1665507600-1665514800@www.smrld.org
SUMMARY:Legos
DESCRIPTION:Legos\nCome Build with Us!\nEvery Tuesday\n5 – 7 PM\nIn the Children’s Department\, 2001 Delmar Ave\nQuestions? Call the Youth Services department at 618-452-6238
URL:https://www.smrld.org/event/legos/2022-10-11/
LOCATION:Niedringhaus Building\, 2001 Delmar Avenue\, Granite City\, IL\, 62040\, United States
CATEGORIES:Kids
END:VEVENT
BEGIN:VEVENT
DTSTART;TZID=America/Chicago:20221011T170000
DTEND;TZID=America/Chicago:20221011T190000
DTSTAMP:20260421T042244
CREATED:20210818T164027Z
LAST-MODIFIED:20230608T233431Z
UID:10011005-1665507600-1665514800@www.smrld.org
SUMMARY:Legos
DESCRIPTION:Legos\nCome Build with Us!\nEvery Tuesday\n5 – 7 PM\nIn the Children’s Department\, 2001 Delmar Ave\nQuestions? Call the Youth Services department at 618-452-6238
URL:https://www.smrld.org/event/legos/2022-10-11/
LOCATION:Niedringhaus Building\, 2001 Delmar Avenue\, Granite City\, IL\, 62040\, United States
CATEGORIES:Kids
END:VEVENT
BEGIN:VEVENT
DTSTART;TZID=America/Chicago:20221011T170000
DTEND;TZID=America/Chicago:20221011T190000
DTSTAMP:20260421T042244
CREATED:20210818T164027Z
LAST-MODIFIED:20230608T233431Z
UID:10011099-1665507600-1665514800@www.smrld.org
SUMMARY:Legos
DESCRIPTION:Legos\nCome Build with Us!\nEvery Tuesday\n5 – 7 PM\nIn the Children’s Department\, 2001 Delmar Ave\nQuestions? Call the Youth Services department at 618-452-6238
URL:https://www.smrld.org/event/legos/2022-10-11/
LOCATION:Niedringhaus Building\, 2001 Delmar Avenue\, Granite City\, IL\, 62040\, United States
CATEGORIES:Kids
END:VEVENT
END:VCALENDAR