BEGIN:VCALENDAR
VERSION:2.0
PRODID:-//Six Mile Regional Library District - ECPv6.15.17//NONSGML v1.0//EN
CALSCALE:GREGORIAN
METHOD:PUBLISH
X-ORIGINAL-URL:https://www.smrld.org
X-WR-CALDESC:Events for Six Mile Regional Library District
REFRESH-INTERVAL;VALUE=DURATION:PT1H
X-Robots-Tag:noindex
X-PUBLISHED-TTL:PT1H
BEGIN:VTIMEZONE
TZID:America/Chicago
BEGIN:DAYLIGHT
TZOFFSETFROM:-0600
TZOFFSETTO:-0500
TZNAME:CDT
DTSTART:20230312T080000
END:DAYLIGHT
BEGIN:STANDARD
TZOFFSETFROM:-0500
TZOFFSETTO:-0600
TZNAME:CST
DTSTART:20231105T070000
END:STANDARD
BEGIN:DAYLIGHT
TZOFFSETFROM:-0600
TZOFFSETTO:-0500
TZNAME:CDT
DTSTART:20240310T080000
END:DAYLIGHT
BEGIN:STANDARD
TZOFFSETFROM:-0500
TZOFFSETTO:-0600
TZNAME:CST
DTSTART:20241103T070000
END:STANDARD
BEGIN:DAYLIGHT
TZOFFSETFROM:-0600
TZOFFSETTO:-0500
TZNAME:CDT
DTSTART:20250309T080000
END:DAYLIGHT
BEGIN:STANDARD
TZOFFSETFROM:-0500
TZOFFSETTO:-0600
TZNAME:CST
DTSTART:20251102T070000
END:STANDARD
END:VTIMEZONE
BEGIN:VEVENT
DTSTART;TZID=America/Chicago:20240914T130000
DTEND;TZID=America/Chicago:20240914T160000
DTSTAMP:20260423T035858
CREATED:20230809T174205Z
LAST-MODIFIED:20230809T174313Z
UID:10030008-1726318800-1726329600@www.smrld.org
SUMMARY:Nintendo Switch
DESCRIPTION:Nintendo Switch\n\nEvery Saturday\, 1-4 PM\nTeen Room\, 2001 Delmar Ave\nGrades 7-12\nQuestions? Email ys@smrld.org or call the Youth Services department at 618-452-6238 ext 720
URL:https://www.smrld.org/event/nintendo-switch-3/2024-09-14/
LOCATION:Niedringhaus Building\, 2001 Delmar Avenue\, Granite City\, IL\, 62040\, United States
CATEGORIES:Teens
END:VEVENT
BEGIN:VEVENT
DTSTART;TZID=America/Chicago:20240914T140000
DTEND;TZID=America/Chicago:20240914T153000
DTSTAMP:20260423T035858
CREATED:20240805T191410Z
LAST-MODIFIED:20240805T191410Z
UID:10081621-1726322400-1726327800@www.smrld.org
SUMMARY:Fall Craft Series
DESCRIPTION:Fall Craft Series\nSept 14: Rope Pumpkins\nOct 5: Bat Wing Bookmarks\nOct 26: Cork Pumpkins\nNov 23: DIY Bath Soak\n\nSaturdays\, 2-3:30 PM\n2001 Delmar Ave\n18+ Adult crafts\nRegistration required – Call 618-452-6238
URL:https://www.smrld.org/event/fall-craft-series/2024-09-14/
LOCATION:Niedringhaus Building\, 2001 Delmar Avenue\, Granite City\, IL\, 62040\, United States
CATEGORIES:Adults
END:VEVENT
BEGIN:VEVENT
DTSTART;VALUE=DATE:20240916
DTEND;VALUE=DATE:20240917
DTSTAMP:20260423T035858
CREATED:20240805T185315Z
LAST-MODIFIED:20240805T185315Z
UID:10081359-1726444800-1726531199@www.smrld.org
SUMMARY:Teen Origami Contest -Picture of Your Creation Due
DESCRIPTION:Teen Origami Contest!\nOpen to teens\, grades 7-12.\nPick up an origami kit at either library locations beginning Tuesday\, September 3 \n\nWhile supplies last. Supplies provided by Tuttle Publishing.\nSend a picture (png or jpeg) of your origami creation to ysmanager@smrld.org by Monday\, September 16.\nVote for your favorite September 17 through 22 on our Facebook Page\nTwo Awards! Staff Favorite & Fan Favorite Awarded at Teen Unwind on September 25
URL:https://www.smrld.org/event/teen-origami-contest-picture-of-your-creation-due/
CATEGORIES:Teens
END:VEVENT
BEGIN:VEVENT
DTSTART;TZID=America/Chicago:20240916T170000
DTEND;TZID=America/Chicago:20240916T190000
DTSTAMP:20260423T035858
CREATED:20240205T210911Z
LAST-MODIFIED:20240805T194203Z
UID:10081167-1726506000-1726513200@www.smrld.org
SUMMARY:SMRLD Walking Club
DESCRIPTION:SMRLD Walking Club\nJoin us for a walk around\nWilson Park\nevery 3rd Monday\nApril – October\n5 PM\nMeet at Ice Rink parking lot\n\nApril 15; May 20; June 17 (Canceled Due to Weather); July 15 (Canceled Due to Weather); August 19; September 16; October 21; and November 18\n\n\nCancellations due to weather will be announced via Facebook by 2 PM on the day of the event.\nQuestions? Call 618-452-6238 ext 730 or email damanager@smrld.org
URL:https://www.smrld.org/event/smrld-walking-club/2024-09-16/
LOCATION:Wilson Park\, 2900 Benton Street\, Granite City\, IL\, 62040\, United States
CATEGORIES:Adults
END:VEVENT
BEGIN:VEVENT
DTSTART;VALUE=DATE:20240917
DTEND;VALUE=DATE:20240923
DTSTAMP:20260423T035858
CREATED:20240805T185405Z
LAST-MODIFIED:20240805T185405Z
UID:10081360-1726531200-1727049599@www.smrld.org
SUMMARY:Teen Origami Contest - Voting
DESCRIPTION:Teen Origami Contest!\nOpen to teens\, grades 7-12.Pick up an origami kit at either library locations beginning Tuesday\, September 3\nWhile supplies last. Supplies provided by Tuttle Publishing.\nSend a picture (png or jpeg) of your origami creation to ysmanager@smrld.org by Monday\, September 16.\nVote for your favorite September 17 through 22 on our Facebook Page\nTwo Awards! Staff Favorite & Fan Favorite Awarded at Teen Unwind on September 25
URL:https://www.smrld.org/event/teen-origami-contest-voting/
CATEGORIES:Teens
END:VEVENT
BEGIN:VEVENT
DTSTART;TZID=America/Chicago:20240917T183000
DTEND;TZID=America/Chicago:20240917T193000
DTSTAMP:20260423T035858
CREATED:20240805T183615Z
LAST-MODIFIED:20241015T174403Z
UID:10081306-1726597800-1726601400@www.smrld.org
SUMMARY:Sit\, Stay\, Read with Got Your Six therapy dogs
DESCRIPTION:Sit\, Stay\, Read with Got Your Six therapy dogs\nEvery 3rd Tuesday:\n\nSeptember 17; October 15 (Canceled); & November 19\n6:30-7:30 PM\nSMRLD\, 2145 Johnson Rd\nFor children\, grades K-8\, come practice reading or just talk with a trained therapy dog!\nQuestions? Email ys@smrld.org or call the Youth Services department at 618-452-6238 ext 720
URL:https://www.smrld.org/event/sit-stay-read-with-got-your-six-therapy-dogs-5/2024-09-17/
LOCATION:Johnson Road Branch\, 2145 Johnson Road\, Granite City\, IL\, 62040\, United States
CATEGORIES:Kids
END:VEVENT
BEGIN:VEVENT
DTSTART;TZID=America/Chicago:20240918T150000
DTEND;TZID=America/Chicago:20240918T170000
DTSTAMP:20260423T035858
CREATED:20240814T163135Z
LAST-MODIFIED:20240814T163135Z
UID:10081641-1726671600-1726678800@www.smrld.org
SUMMARY:Chestnut Health Systems Mobile Unit at SMRLD
DESCRIPTION:Chestnut Health Systems Mobile Unit at SMRLD\nEvery 3rd Wednesday of the Month from 3 – 5 PM at 2001 Delmar Ave\nHealth care for babies\, kids\, and adults\nNeed help with substance use or mental health concerns? They can make a referral.\nWalk-ins welcome or schedule an appointment by calling 618-512-1863 or emailing jevans@chestnut.org
URL:https://www.smrld.org/event/chestnut-health-systems-mobile-unit-at-smrld/2024-09-18/
LOCATION:Niedringhaus Building\, 2001 Delmar Avenue\, Granite City\, IL\, 62040\, United States
CATEGORIES:All Ages
END:VEVENT
BEGIN:VEVENT
DTSTART;TZID=America/Chicago:20240918T173000
DTEND;TZID=America/Chicago:20240918T193000
DTSTAMP:20260423T035858
CREATED:20240805T190418Z
LAST-MODIFIED:20251114T180331Z
UID:10081366-1726680600-1726687800@www.smrld.org
SUMMARY:Teen Unwind
DESCRIPTION:Teen Unwind\nOpen to Teens\, Grades 7-12\nEvery Wednesday\n5:30 PM\nSMRLD\, 2001 Delmar Ave\nSnacks\, Crafts\, Games
URL:https://www.smrld.org/event/teen-unwind/2024-09-18/
LOCATION:Niedringhaus Building\, 2001 Delmar Avenue\, Granite City\, IL\, 62040\, United States
CATEGORIES:Teens
END:VEVENT
BEGIN:VEVENT
DTSTART;TZID=America/Chicago:20240919T163000
DTEND;TZID=America/Chicago:20240919T180000
DTSTAMP:20260423T035858
CREATED:20240805T183039Z
LAST-MODIFIED:20240805T183039Z
UID:10081302-1726763400-1726768800@www.smrld.org
SUMMARY:Pirate Party!
DESCRIPTION:Pirate Party!\n\nFor Kids\, Grades K-4\nCome join us in celebrating Talk Like a Pirate Day\nThursday\, September 19 at 4:30PM\nSMRLD\, 2001 Delmar Avenue\nEnjoy Snacks\, Games\, & Crafts
URL:https://www.smrld.org/event/pirate-party/
LOCATION:Niedringhaus Building\, 2001 Delmar Avenue\, Granite City\, IL\, 62040\, United States
CATEGORIES:Kids
END:VEVENT
BEGIN:VEVENT
DTSTART;VALUE=DATE:20240920
DTEND;VALUE=DATE:20240921
DTSTAMP:20260423T035858
CREATED:20240806T152422Z
LAST-MODIFIED:20240806T152422Z
UID:10074492-1726790400-1726876799@www.smrld.org
SUMMARY:Quarterly Staff Meeting - Libraries Closed
DESCRIPTION:Normal hours resume Saturday
URL:https://www.smrld.org/event/quarterly-staff-meeting-libraries-closed/
CATEGORIES:Closing
END:VEVENT
BEGIN:VEVENT
DTSTART;TZID=America/Chicago:20240921T100000
DTEND;TZID=America/Chicago:20240921T110000
DTSTAMP:20260423T035858
CREATED:20240805T184114Z
LAST-MODIFIED:20240805T184114Z
UID:10081315-1726912800-1726916400@www.smrld.org
SUMMARY:Saturday Play & Learn For Babies & Toddlers
DESCRIPTION:Saturday Play & Learn For Babies & Toddlers\n\nSaturday\, September 21\nSaturday\, October 19*\nSaturday\, November 16\n\n10 AM at SMRLD\n2001 Delmar Ave\nStories\, Songs\, & Slightly Messier Playtime\n*October Play & Learn will be a Homecoming Dance!\n\nQuestions? Email ys@smrld.org or call the Youth Services department at 618-452-6238 ext 720
URL:https://www.smrld.org/event/saturday-play-learn-for-babies-toddlers-5/2024-09-21/
LOCATION:Niedringhaus Building\, 2001 Delmar Avenue\, Granite City\, IL\, 62040\, United States
CATEGORIES:Kids
END:VEVENT
BEGIN:VEVENT
DTSTART;TZID=America/Chicago:20240921T110000
DTEND;TZID=America/Chicago:20240921T130000
DTSTAMP:20260423T035858
CREATED:20240805T193909Z
LAST-MODIFIED:20241003T164259Z
UID:10081636-1726916400-1726923600@www.smrld.org
SUMMARY:All Wound Up
DESCRIPTION:All Wound Up\n\n\n\n\n\nBeginning yarn crafts 11AM – 1PM\n\nSaturday\, August 17th – Knitting for Beginners\n\nSaturday\, September 21st  – Knitting for Beginners\nCANCELED Saturday\, October 19th – Simple Crochet Stitches\nSaturday\, November 16th – Simple Crochet Stitches\nLimited to 8 people\n2145 Johnson Road\nRegister at tinyurl.com/allwoundup2 or call 618-452-6238
URL:https://www.smrld.org/event/all-wound-up-6/2024-09-21/
LOCATION:Johnson Road Branch\, 2145 Johnson Road\, Granite City\, IL\, 62040\, United States
CATEGORIES:Adults
END:VEVENT
BEGIN:VEVENT
DTSTART;TZID=America/Chicago:20240921T130000
DTEND;TZID=America/Chicago:20240921T160000
DTSTAMP:20260423T035858
CREATED:20230809T174205Z
LAST-MODIFIED:20230809T174313Z
UID:10030009-1726923600-1726934400@www.smrld.org
SUMMARY:Nintendo Switch
DESCRIPTION:Nintendo Switch\n\nEvery Saturday\, 1-4 PM\nTeen Room\, 2001 Delmar Ave\nGrades 7-12\nQuestions? Email ys@smrld.org or call the Youth Services department at 618-452-6238 ext 720
URL:https://www.smrld.org/event/nintendo-switch-3/2024-09-21/
LOCATION:Niedringhaus Building\, 2001 Delmar Avenue\, Granite City\, IL\, 62040\, United States
CATEGORIES:Teens
END:VEVENT
BEGIN:VEVENT
DTSTART;TZID=America/Chicago:20240924T183000
DTEND;TZID=America/Chicago:20240924T193000
DTSTAMP:20260423T035858
CREATED:20240805T193032Z
LAST-MODIFIED:20240805T193032Z
UID:10081632-1727202600-1727206200@www.smrld.org
SUMMARY:Book Club!
DESCRIPTION:Book Club!\n\n\n\nJoin the Six Mile Regional Library Book Club\nThe 57 Bus by Dashka Slater – Monday\, September 30 at 11:00 AM Meme’s Coffee Shop\, 1529 Johnson Rd or Tuesday\, September 24 at 6:30 PM SMRLD\, 2001 Delmar Ave \n\n\n\nThe Cuban Heiress by Chanel Cleeton  – Monday\, October 28 at 11:00 AM Meme’s Coffee Shop\, 1529 Johnson Rd or Tuesday\, October 29  at 6:30 PM SMRLD\, 2001 Delmar Ave\n\nA The Lost Journals of Sacajewea by Debra Magpie Earling – Monday\, November 25 at 11:00 AM Meme’s Coffee Shop\, 1529 Johnson Rd or Tuesday\, November 26 at 6:30 PM SMRLD\, 2001 Delmar Ave \n\nCopies of the book are available at both libraries.\nQuestions? Call 618-452-6238 ext. 785
URL:https://www.smrld.org/event/book-club-65/2024-09-24/
LOCATION:Niedringhaus Building\, 2001 Delmar Avenue\, Granite City\, IL\, 62040\, United States
CATEGORIES:Adults
END:VEVENT
BEGIN:VEVENT
DTSTART;TZID=America/Chicago:20240925T173000
DTEND;TZID=America/Chicago:20240925T193000
DTSTAMP:20260423T035858
CREATED:20240805T190418Z
LAST-MODIFIED:20251114T180331Z
UID:10081367-1727285400-1727292600@www.smrld.org
SUMMARY:Teen Unwind
DESCRIPTION:Teen Unwind\nOpen to Teens\, Grades 7-12\nEvery Wednesday\n5:30 PM\nSMRLD\, 2001 Delmar Ave\nSnacks\, Crafts\, Games
URL:https://www.smrld.org/event/teen-unwind/2024-09-25/
LOCATION:Niedringhaus Building\, 2001 Delmar Avenue\, Granite City\, IL\, 62040\, United States
CATEGORIES:Teens
END:VEVENT
BEGIN:VEVENT
DTSTART;TZID=America/Chicago:20240926T120000
DTEND;TZID=America/Chicago:20240926T133000
DTSTAMP:20260423T035858
CREATED:20240805T191917Z
LAST-MODIFIED:20240805T191917Z
UID:10081627-1727352000-1727357400@www.smrld.org
SUMMARY:Job Search Training Session Series
DESCRIPTION:Job Search Training Session Series \n\n\n\n\n\npresented by expert\, Frank Alaniz\nArtificial Intelligence Tools to Find a Job – Thursday\, September 12th from 3-4:30 PM \nCreating Your Resume – Thursday\, September 26th from 12-1:30 PM \nInterviewing Skills – Thursday\, October 17th from 3-4:30 PM\nLibrary Training and Events Room\, 2001 Delmar Ave\, In person and via Zoom.\n\nCome in person and receive a five minute review of your resume\n\nRegistration is required. Please call 618-452-6238 or go to https://tinyurl.com/smrldjobs2024 to register.
URL:https://www.smrld.org/event/job-search-training-session-series-7/2024-09-26/
LOCATION:Niedringhaus Building\, 2001 Delmar Avenue\, Granite City\, IL\, 62040\, United States
CATEGORIES:Adults
END:VEVENT
BEGIN:VEVENT
DTSTART;TZID=America/Chicago:20240926T170000
DTEND;TZID=America/Chicago:20240926T190000
DTSTAMP:20260423T035858
CREATED:20240805T191613Z
LAST-MODIFIED:20240805T191613Z
UID:10081625-1727370000-1727377200@www.smrld.org
SUMMARY:Hispanic Heritage Month! | ¡Mes de la Herencia Hispana!
DESCRIPTION:Hispanic Heritage Month!\nThursday\, Sept 26th\nPiñata\, Mexican Bingo\nConchas\, craft\, Bachata dance instruction by Effervescent Studios\n¡Mes de la Herencia Hispana!\nJueves\, 26 de septiembre\nPiñata\, Lotería Mexicana\nConchas (pan dulce) Manualidad\,Clase de Bachata por Effervescent Studios\n5-7 PM | 2001 Delmar Ave\nQuestions? Call 618-452-6238
URL:https://www.smrld.org/event/hispanic-heritage-month-mes-de-la-herencia-hispana/
LOCATION:Niedringhaus Building\, 2001 Delmar Avenue\, Granite City\, IL\, 62040\, United States
CATEGORIES:Adults
END:VEVENT
BEGIN:VEVENT
DTSTART;TZID=America/Chicago:20240927T100000
DTEND;TZID=America/Chicago:20240927T110000
DTSTAMP:20260423T035858
CREATED:20240805T183857Z
LAST-MODIFIED:20240812T174810Z
UID:10081310-1727431200-1727434800@www.smrld.org
SUMMARY:Play & Learn For Babies & Toddlers
DESCRIPTION:Play & Learn For Babies & Toddlers\n\nFridays\, September 13 & 27\nFridays\, October 11 & 25\nFridays\, November 8 & 22\n\n10 AM at SMRLD\, 2001 Delmar Ave\n\nQuestions? Email ys@smrld.org or call the Youth Services department at 618-452-6238 ext 720
URL:https://www.smrld.org/event/play-learn-for-babies-toddlers-7/2024-09-27/
LOCATION:Niedringhaus Building\, 2001 Delmar Avenue\, Granite City\, IL\, 62040\, United States
CATEGORIES:Kids
END:VEVENT
BEGIN:VEVENT
DTSTART;TZID=America/Chicago:20240928T130000
DTEND;TZID=America/Chicago:20240928T160000
DTSTAMP:20260423T035858
CREATED:20230809T174205Z
LAST-MODIFIED:20230809T174313Z
UID:10030010-1727528400-1727539200@www.smrld.org
SUMMARY:Nintendo Switch
DESCRIPTION:Nintendo Switch\n\nEvery Saturday\, 1-4 PM\nTeen Room\, 2001 Delmar Ave\nGrades 7-12\nQuestions? Email ys@smrld.org or call the Youth Services department at 618-452-6238 ext 720
URL:https://www.smrld.org/event/nintendo-switch-3/2024-09-28/
LOCATION:Niedringhaus Building\, 2001 Delmar Avenue\, Granite City\, IL\, 62040\, United States
CATEGORIES:Teens
END:VEVENT
BEGIN:VEVENT
DTSTART;TZID=America/Chicago:20240930T110000
DTEND;TZID=America/Chicago:20240930T120000
DTSTAMP:20260423T035858
CREATED:20240805T192944Z
LAST-MODIFIED:20240805T192944Z
UID:10081629-1727694000-1727697600@www.smrld.org
SUMMARY:Book Club!
DESCRIPTION:Book Club!\n\n\n\nJoin the Six Mile Regional Library Book Club\nThe 57 Bus by Dashka Slater – Monday\, September 30 at 11:00 AM Meme’s Coffee Shop\, 1529 Johnson Rd or Tuesday\, September 24 at 6:30 PM SMRLD\, 2001 Delmar Ave \n\n\n\nThe Cuban Heiress by Chanel Cleeton  – Monday\, October 28 at 11:00 AM Meme’s Coffee Shop\, 1529 Johnson Rd or Tuesday\, October 29  at 6:30 PM SMRLD\, 2001 Delmar Ave\n\nA The Lost Journals of Sacajewea by Debra Magpie Earling – Monday\, November 25 at 11:00 AM Meme’s Coffee Shop\, 1529 Johnson Rd or Tuesday\, November 26 at 6:30 PM SMRLD\, 2001 Delmar Ave \n\nCopies of the book are available at both libraries.\nQuestions? Call 618-452-6238 ext. 785
URL:https://www.smrld.org/event/book-club-64/2024-09-30/
LOCATION:Meme’s Coffee Shop\, 1529 Johnson Rd\, Granite City\, IL\, 62040\, United States
CATEGORIES:Adults
END:VEVENT
BEGIN:VEVENT
DTSTART;VALUE=DATE:20241001
DTEND;VALUE=DATE:20241101
DTSTAMP:20260423T035858
CREATED:20240805T175306Z
LAST-MODIFIED:20240805T175306Z
UID:10081298-1727740800-1730419199@www.smrld.org
SUMMARY:Annual IHLS Library Crawl!
DESCRIPTION:Annual IHLS Library Crawl!\nOctober 1st through 31st\nCheck out some of our neighboring libraries this Fall\nThe crawl passports will be available\nSeptember 30th at both libraries.\nVisit 5 libraries by October 31st and you will be entered into a drawing for a Quick Trip gift card!\nPassports must be turned in by November 2nd.
URL:https://www.smrld.org/event/annual-ihls-library-crawl/
CATEGORIES:All Ages
END:VEVENT
BEGIN:VEVENT
DTSTART;VALUE=DATE:20241001
DTEND;VALUE=DATE:20241002
DTSTAMP:20260423T035858
CREATED:20240805T175625Z
LAST-MODIFIED:20240805T175625Z
UID:10081300-1727780400-1727812800@www.smrld.org
SUMMARY:S.T.E.A.M. Take Home Kits
DESCRIPTION:S.T.E.A.M. Take Home Kits\n\n\nScience Technology Engineering Arts Math\n\n\n\nSeptember: Bubbles\nOctober: Pill Bugs\nNovember: Leaf Shaped Crystals\nFor Grades 2-6\nPick up a kit with supplies and instructions at either library location while supplies last.\nQuestions? Email ys@smrld.org or call the Youth Services department at 618-452-6238 ext 720
URL:https://www.smrld.org/event/s-t-e-a-m-take-home-kits-11/2024-10-01/
CATEGORIES:Kids
END:VEVENT
BEGIN:VEVENT
DTSTART;TZID=America/Chicago:20241002T173000
DTEND;TZID=America/Chicago:20241002T193000
DTSTAMP:20260423T035858
CREATED:20240805T185616Z
LAST-MODIFIED:20240805T185616Z
UID:10081361-1727890200-1727897400@www.smrld.org
SUMMARY:Teen Craft: Cat Costumes
DESCRIPTION:Teen Craft: Cat Costumes\n\nfor Grades 7-12\n\nWednesday\, October 2\n5:30-7:30 PM\nSMRLD\, 2001 Delmar Ave\nHave you ever wanted to dress up a cat (ceramic figurine)? Here is your chance!\nCall Youth Services at 618-452-6238 to register.
URL:https://www.smrld.org/event/teen-craft-cat-costumes/
LOCATION:Niedringhaus Building\, 2001 Delmar Avenue\, Granite City\, IL\, 62040\, United States
CATEGORIES:Teens
END:VEVENT
BEGIN:VEVENT
DTSTART;TZID=America/Chicago:20241002T173000
DTEND;TZID=America/Chicago:20241002T193000
DTSTAMP:20260423T035858
CREATED:20240805T190418Z
LAST-MODIFIED:20251114T180331Z
UID:10081368-1727890200-1727897400@www.smrld.org
SUMMARY:Teen Unwind
DESCRIPTION:Teen Unwind\nOpen to Teens\, Grades 7-12\nEvery Wednesday\n5:30 PM\nSMRLD\, 2001 Delmar Ave\nSnacks\, Crafts\, Games
URL:https://www.smrld.org/event/teen-unwind/2024-10-02/
LOCATION:Niedringhaus Building\, 2001 Delmar Avenue\, Granite City\, IL\, 62040\, United States
CATEGORIES:Teens
END:VEVENT
BEGIN:VEVENT
DTSTART;TZID=America/Chicago:20241005T130000
DTEND;TZID=America/Chicago:20241005T160000
DTSTAMP:20260423T035858
CREATED:20230809T174205Z
LAST-MODIFIED:20230809T174313Z
UID:10030011-1728133200-1728144000@www.smrld.org
SUMMARY:Nintendo Switch
DESCRIPTION:Nintendo Switch\n\nEvery Saturday\, 1-4 PM\nTeen Room\, 2001 Delmar Ave\nGrades 7-12\nQuestions? Email ys@smrld.org or call the Youth Services department at 618-452-6238 ext 720
URL:https://www.smrld.org/event/nintendo-switch-3/2024-10-05/
LOCATION:Niedringhaus Building\, 2001 Delmar Avenue\, Granite City\, IL\, 62040\, United States
CATEGORIES:Teens
END:VEVENT
BEGIN:VEVENT
DTSTART;TZID=America/Chicago:20241005T140000
DTEND;TZID=America/Chicago:20241005T153000
DTSTAMP:20260423T035859
CREATED:20240805T191410Z
LAST-MODIFIED:20240805T191410Z
UID:10081622-1728136800-1728142200@www.smrld.org
SUMMARY:Fall Craft Series
DESCRIPTION:Fall Craft Series\nSept 14: Rope Pumpkins\nOct 5: Bat Wing Bookmarks\nOct 26: Cork Pumpkins\nNov 23: DIY Bath Soak\n\nSaturdays\, 2-3:30 PM\n2001 Delmar Ave\n18+ Adult crafts\nRegistration required – Call 618-452-6238
URL:https://www.smrld.org/event/fall-craft-series/2024-10-05/
LOCATION:Niedringhaus Building\, 2001 Delmar Avenue\, Granite City\, IL\, 62040\, United States
CATEGORIES:Adults
END:VEVENT
BEGIN:VEVENT
DTSTART;TZID=America/Chicago:20241008T180000
DTEND;TZID=America/Chicago:20241008T200000
DTSTAMP:20260423T035859
CREATED:20231115T164425Z
LAST-MODIFIED:20241218T181907Z
UID:10073840-1728410400-1728417600@www.smrld.org
SUMMARY:Board of Trustees Meeting
DESCRIPTION:Board of Trustees Meetings Schedule
URL:https://www.smrld.org/event/board-of-trustees-meeting-16/2024-10-08/
LOCATION:Niedringhaus Building\, 2001 Delmar Avenue\, Granite City\, IL\, 62040\, United States
CATEGORIES:Adults
END:VEVENT
BEGIN:VEVENT
DTSTART;TZID=America/Chicago:20241009T173000
DTEND;TZID=America/Chicago:20241009T193000
DTSTAMP:20260423T035859
CREATED:20240805T190418Z
LAST-MODIFIED:20251114T180331Z
UID:10081369-1728495000-1728502200@www.smrld.org
SUMMARY:Teen Unwind
DESCRIPTION:Teen Unwind\nOpen to Teens\, Grades 7-12\nEvery Wednesday\n5:30 PM\nSMRLD\, 2001 Delmar Ave\nSnacks\, Crafts\, Games
URL:https://www.smrld.org/event/teen-unwind/2024-10-09/
LOCATION:Niedringhaus Building\, 2001 Delmar Avenue\, Granite City\, IL\, 62040\, United States
CATEGORIES:Teens
END:VEVENT
BEGIN:VEVENT
DTSTART;TZID=America/Chicago:20241009T190000
DTEND;TZID=America/Chicago:20241009T200000
DTSTAMP:20260423T035859
CREATED:20240423T185021Z
LAST-MODIFIED:20241119T205216Z
UID:10081181-1728500400-1728504000@www.smrld.org
SUMMARY:Illinois Libraries Present Season 4
DESCRIPTION:Illinois Libraries Present – watch online or join us at 2001 Delmar Ave for a watch party!\n\n \nWed\, October 9 | 7 PM\nBeing Imperfect with Erika Sánchez \n\nRegistration open! https://bit.ly/ILP_ErikaSanchez\nThis event will be recorded with permission to post to ILP’s YouTube for a limited time (14 days)\n\n\nTue\, October 22 | 7 PM\nRaise Your Voice with Jason Reynolds (Youth event) \n\nRegistration open! https://bit.ly/ILP_JasonReynolds\nThis event recording will be limited to registrants. The Vimeo link and password will be emailed to all Zoom registrants. Register for the event on Zoom\, even if you cannot attend live.\n\n \nWed\, Nov 20 | 7 PM\nHoliday Tips & Tricks with Chef Art Smith \n\nRegistration open! https://bit.ly/ILP_ArtSmith\nThis event will be recorded with permission to post for a limited time (30 days)\n\n\n\n\nTues\, December 10 | 7 PM – The Magic of Raina Telgemeier (Youth Program): Registration link: https://bit.ly/ILP_RainaTelgemeier\n\nDecember 20-22 – Little Women: The Musical (2022)\, An At-Home Experience  Registration link (via Eventbrite\, not Zoom): https://bit.ly/ILP_LittleWomen Recording of performance\, at-home screening only. Space is limited to 3\,000 registrations – Register ASAP to guarantee a spot!\n\n\nThu\, January 9 | 7 PM – Chicago Pizza – Past\, Present & Future with Steve Dolinsky: Registration link: https://bit.ly/ILP_SteveDolinsky\n\n\nThu\, January 23 | 7 PM – Love and Laughs with Michelle Buteau: Registration link: https://bit.ly/ILP_MichelleButeau\n\n\nTue\, February 4 | 7 PM – An Evening with James McBride: Registration link: https://bit.ly/ILP_JamesMcBride\n\n\nWed\, February 19 | 7 PM – Slowing Down with Amy Tan: Registration link: https://bit.ly/ILP_AmyTan\nIllinois Libraries Present Season 4 runs September 2024 through May 2025\, and will offer 11+ events for every audience. \nEnjoy this peek at the incredible upcoming lineup: \nApril 10 | 7 PM – Alexis Nikole Nelson\nMay 3 | 2 PM – Dan Santat (Youth Program)\nMay 15 | 7 PM – Matthew Desmond
URL:https://www.smrld.org/event/illinois-libraries-present-season-4/2024-10-09/
LOCATION:Niedringhaus Building\, 2001 Delmar Avenue\, Granite City\, IL\, 62040\, United States
CATEGORIES:All Ages
END:VEVENT
BEGIN:VEVENT
DTSTART;TZID=America/Chicago:20241010T180000
DTEND;TZID=America/Chicago:20241010T190000
DTSTAMP:20260423T035859
CREATED:20240805T194012Z
LAST-MODIFIED:20240805T194012Z
UID:10081639-1728583200-1728586800@www.smrld.org
SUMMARY:Abraham Lincoln and the Spirit World
DESCRIPTION:Abraham Lincoln and the Spirit World\n\nThursday\, October 10 at 6 PM\n2001 Delmar Ave\n\nJoin author Troy Taylor for the true story of Abraham Lincoln\, America’s most haunted president! Discover his brushes with the supernatural\, his premonitions of death\, his embrace of Spiritualism\, his ghostly funeral train\, and a spirited afterlife as one of the most well-traveled ghosts in American history! This will be a night of haunted history that you don’t want to miss!
URL:https://www.smrld.org/event/abraham-lincoln-and-the-spirit-world/
LOCATION:Niedringhaus Building\, 2001 Delmar Avenue\, Granite City\, IL\, 62040\, United States
CATEGORIES:Adults
END:VEVENT
END:VCALENDAR