BEGIN:VCALENDAR
VERSION:2.0
PRODID:-//Six Mile Regional Library District - ECPv6.15.17//NONSGML v1.0//EN
CALSCALE:GREGORIAN
METHOD:PUBLISH
X-WR-CALNAME:Six Mile Regional Library District
X-ORIGINAL-URL:https://www.smrld.org
X-WR-CALDESC:Events for Six Mile Regional Library District
REFRESH-INTERVAL;VALUE=DURATION:PT1H
X-Robots-Tag:noindex
X-PUBLISHED-TTL:PT1H
BEGIN:VTIMEZONE
TZID:America/Chicago
BEGIN:DAYLIGHT
TZOFFSETFROM:-0600
TZOFFSETTO:-0500
TZNAME:CDT
DTSTART:20210314T080000
END:DAYLIGHT
BEGIN:STANDARD
TZOFFSETFROM:-0500
TZOFFSETTO:-0600
TZNAME:CST
DTSTART:20211107T070000
END:STANDARD
BEGIN:DAYLIGHT
TZOFFSETFROM:-0600
TZOFFSETTO:-0500
TZNAME:CDT
DTSTART:20220313T080000
END:DAYLIGHT
BEGIN:STANDARD
TZOFFSETFROM:-0500
TZOFFSETTO:-0600
TZNAME:CST
DTSTART:20221106T070000
END:STANDARD
BEGIN:DAYLIGHT
TZOFFSETFROM:-0600
TZOFFSETTO:-0500
TZNAME:CDT
DTSTART:20230312T080000
END:DAYLIGHT
BEGIN:STANDARD
TZOFFSETFROM:-0500
TZOFFSETTO:-0600
TZNAME:CST
DTSTART:20231105T070000
END:STANDARD
END:VTIMEZONE
BEGIN:VEVENT
DTSTART;TZID=America/Chicago:20221115T183000
DTEND;TZID=America/Chicago:20221115T193000
DTSTAMP:20260424T033931
CREATED:20221004T194155Z
LAST-MODIFIED:20221014T161209Z
UID:10005836-1668537000-1668540600@www.smrld.org
SUMMARY:Sit\, Stay\, Read with Got Your Six therapy Dogs
DESCRIPTION:Sit\, Stay\, Read with Got Your Six therapy Dogs\nEvery 3rd Tuesday:\nOctober 18 & November 15\n6:30-7:30 PM\nSMRLD\, 2145 Johnson Rd\nFor children\, grades K-8\, Come practice reading or just talk with a trained therapy dog!
URL:https://www.smrld.org/event/sit-stay-read-with-got-your-six-therapy-dogs/2022-11-15/
LOCATION:Johnson Road Branch\, 2145 Johnson Road\, Granite City\, IL\, 62040\, United States
CATEGORIES:Kids
END:VEVENT
BEGIN:VEVENT
DTSTART;TZID=America/Chicago:20221115T180000
DTEND;TZID=America/Chicago:20221115T200000
DTSTAMP:20260424T033931
CREATED:20200419T132438Z
LAST-MODIFIED:20200419T132800Z
UID:10006455-1668535200-1668542400@www.smrld.org
SUMMARY:Just Unwind Yarn Club
DESCRIPTION:The Third Tuesday of each month to knit\,\nsocialize\, and share techniques with fellow yarn crafters\n6-8 PM\nJoin Zoom Meetinghttps://us04web.zoom.us/j/340740076
URL:https://www.smrld.org/event/just-unwind-yarn-club-13/2022-11-15/
LOCATION:IL
CATEGORIES:Adults
END:VEVENT
BEGIN:VEVENT
DTSTART;TZID=America/Chicago:20221115T180000
DTEND;TZID=America/Chicago:20221115T200000
DTSTAMP:20260424T033931
CREATED:20191113T150038Z
LAST-MODIFIED:20231206T175128Z
UID:10006794-1668535200-1668542400@www.smrld.org
SUMMARY:Board of Trustees Meeting
DESCRIPTION:Board of Trustees Meetings Schedule\n 
URL:https://www.smrld.org/event/board-of-trustees-meeting-14-2021-01-12-2022-11-08/2022-11-15/2/
LOCATION:Niedringhaus Building\, 2001 Delmar Avenue\, Granite City\, IL\, 62040\, United States
CATEGORIES:All Ages
END:VEVENT
BEGIN:VEVENT
DTSTART;TZID=America/Chicago:20221115T170000
DTEND;TZID=America/Chicago:20221115T190000
DTSTAMP:20260424T033931
CREATED:20210818T164027Z
LAST-MODIFIED:20230608T233429Z
UID:10010818-1668531600-1668538800@www.smrld.org
SUMMARY:Legos
DESCRIPTION:Legos\nCome Build with Us!\nEvery Tuesday\n5 – 7 PM\nIn the Children’s Department\, 2001 Delmar Ave\nQuestions? Call the Youth Services department at 618-452-6238
URL:https://www.smrld.org/event/legos/2022-11-15/
LOCATION:Niedringhaus Building\, 2001 Delmar Avenue\, Granite City\, IL\, 62040\, United States
CATEGORIES:Kids
END:VEVENT
BEGIN:VEVENT
DTSTART;TZID=America/Chicago:20221115T170000
DTEND;TZID=America/Chicago:20221115T190000
DTSTAMP:20260424T033931
CREATED:20210818T164027Z
LAST-MODIFIED:20230608T233430Z
UID:10010914-1668531600-1668538800@www.smrld.org
SUMMARY:Legos
DESCRIPTION:Legos\nCome Build with Us!\nEvery Tuesday\n5 – 7 PM\nIn the Children’s Department\, 2001 Delmar Ave\nQuestions? Call the Youth Services department at 618-452-6238
URL:https://www.smrld.org/event/legos/2022-11-15/
LOCATION:Niedringhaus Building\, 2001 Delmar Avenue\, Granite City\, IL\, 62040\, United States
CATEGORIES:Kids
END:VEVENT
BEGIN:VEVENT
DTSTART;TZID=America/Chicago:20221115T170000
DTEND;TZID=America/Chicago:20221115T190000
DTSTAMP:20260424T033931
CREATED:20210818T164027Z
LAST-MODIFIED:20230608T233431Z
UID:10011009-1668531600-1668538800@www.smrld.org
SUMMARY:Legos
DESCRIPTION:Legos\nCome Build with Us!\nEvery Tuesday\n5 – 7 PM\nIn the Children’s Department\, 2001 Delmar Ave\nQuestions? Call the Youth Services department at 618-452-6238
URL:https://www.smrld.org/event/legos/2022-11-15/
LOCATION:Niedringhaus Building\, 2001 Delmar Avenue\, Granite City\, IL\, 62040\, United States
CATEGORIES:Kids
END:VEVENT
BEGIN:VEVENT
DTSTART;TZID=America/Chicago:20221115T170000
DTEND;TZID=America/Chicago:20221115T190000
DTSTAMP:20260424T033931
CREATED:20210818T164027Z
LAST-MODIFIED:20230608T233431Z
UID:10011103-1668531600-1668538800@www.smrld.org
SUMMARY:Legos
DESCRIPTION:Legos\nCome Build with Us!\nEvery Tuesday\n5 – 7 PM\nIn the Children’s Department\, 2001 Delmar Ave\nQuestions? Call the Youth Services department at 618-452-6238
URL:https://www.smrld.org/event/legos/2022-11-15/
LOCATION:Niedringhaus Building\, 2001 Delmar Avenue\, Granite City\, IL\, 62040\, United States
CATEGORIES:Kids
END:VEVENT
BEGIN:VEVENT
DTSTART;TZID=America/Chicago:20221115T170000
DTEND;TZID=America/Chicago:20221115T190000
DTSTAMP:20260424T033931
CREATED:20210818T164027Z
LAST-MODIFIED:20230608T233432Z
UID:10011196-1668531600-1668538800@www.smrld.org
SUMMARY:Legos
DESCRIPTION:Legos\nCome Build with Us!\nEvery Tuesday\n5 – 7 PM\nIn the Children’s Department\, 2001 Delmar Ave\nQuestions? Call the Youth Services department at 618-452-6238
URL:https://www.smrld.org/event/legos/2022-11-15/
LOCATION:Niedringhaus Building\, 2001 Delmar Avenue\, Granite City\, IL\, 62040\, United States
CATEGORIES:Kids
END:VEVENT
BEGIN:VEVENT
DTSTART;TZID=America/Chicago:20221115T170000
DTEND;TZID=America/Chicago:20221115T190000
DTSTAMP:20260424T033931
CREATED:20210818T164027Z
LAST-MODIFIED:20230608T233433Z
UID:10011288-1668531600-1668538800@www.smrld.org
SUMMARY:Legos
DESCRIPTION:Legos\nCome Build with Us!\nEvery Tuesday\n5 – 7 PM\nIn the Children’s Department\, 2001 Delmar Ave\nQuestions? Call the Youth Services department at 618-452-6238
URL:https://www.smrld.org/event/legos/2022-11-15/
LOCATION:Niedringhaus Building\, 2001 Delmar Avenue\, Granite City\, IL\, 62040\, United States
CATEGORIES:Kids
END:VEVENT
BEGIN:VEVENT
DTSTART;TZID=America/Chicago:20221115T170000
DTEND;TZID=America/Chicago:20221115T190000
DTSTAMP:20260424T033931
CREATED:20210818T164027Z
LAST-MODIFIED:20230608T233433Z
UID:10011379-1668531600-1668538800@www.smrld.org
SUMMARY:Legos
DESCRIPTION:Legos\nCome Build with Us!\nEvery Tuesday\n5 – 7 PM\nIn the Children’s Department\, 2001 Delmar Ave\nQuestions? Call the Youth Services department at 618-452-6238
URL:https://www.smrld.org/event/legos/2022-11-15/
LOCATION:Niedringhaus Building\, 2001 Delmar Avenue\, Granite City\, IL\, 62040\, United States
CATEGORIES:Kids
END:VEVENT
BEGIN:VEVENT
DTSTART;TZID=America/Chicago:20221115T170000
DTEND;TZID=America/Chicago:20221115T190000
DTSTAMP:20260424T033931
CREATED:20210818T164027Z
LAST-MODIFIED:20230608T233434Z
UID:10011469-1668531600-1668538800@www.smrld.org
SUMMARY:Legos
DESCRIPTION:Legos\nCome Build with Us!\nEvery Tuesday\n5 – 7 PM\nIn the Children’s Department\, 2001 Delmar Ave\nQuestions? Call the Youth Services department at 618-452-6238
URL:https://www.smrld.org/event/legos/2022-11-15/
LOCATION:Niedringhaus Building\, 2001 Delmar Avenue\, Granite City\, IL\, 62040\, United States
CATEGORIES:Kids
END:VEVENT
BEGIN:VEVENT
DTSTART;TZID=America/Chicago:20221115T170000
DTEND;TZID=America/Chicago:20221115T190000
DTSTAMP:20260424T033931
CREATED:20210818T164027Z
LAST-MODIFIED:20230608T233435Z
UID:10011558-1668531600-1668538800@www.smrld.org
SUMMARY:Legos
DESCRIPTION:Legos\nCome Build with Us!\nEvery Tuesday\n5 – 7 PM\nIn the Children’s Department\, 2001 Delmar Ave\nQuestions? Call the Youth Services department at 618-452-6238
URL:https://www.smrld.org/event/legos/2022-11-15/
LOCATION:Niedringhaus Building\, 2001 Delmar Avenue\, Granite City\, IL\, 62040\, United States
CATEGORIES:Kids
END:VEVENT
BEGIN:VEVENT
DTSTART;TZID=America/Chicago:20221115T170000
DTEND;TZID=America/Chicago:20221115T190000
DTSTAMP:20260424T033931
CREATED:20210818T164027Z
LAST-MODIFIED:20230608T233435Z
UID:10011646-1668531600-1668538800@www.smrld.org
SUMMARY:Legos
DESCRIPTION:Legos\nCome Build with Us!\nEvery Tuesday\n5 – 7 PM\nIn the Children’s Department\, 2001 Delmar Ave\nQuestions? Call the Youth Services department at 618-452-6238
URL:https://www.smrld.org/event/legos/2022-11-15/
LOCATION:Niedringhaus Building\, 2001 Delmar Avenue\, Granite City\, IL\, 62040\, United States
CATEGORIES:Kids
END:VEVENT
BEGIN:VEVENT
DTSTART;TZID=America/Chicago:20221115T170000
DTEND;TZID=America/Chicago:20221115T190000
DTSTAMP:20260424T033931
CREATED:20210818T164027Z
LAST-MODIFIED:20230608T233436Z
UID:10011733-1668531600-1668538800@www.smrld.org
SUMMARY:Legos
DESCRIPTION:Legos\nCome Build with Us!\nEvery Tuesday\n5 – 7 PM\nIn the Children’s Department\, 2001 Delmar Ave\nQuestions? Call the Youth Services department at 618-452-6238
URL:https://www.smrld.org/event/legos/2022-11-15/
LOCATION:Niedringhaus Building\, 2001 Delmar Avenue\, Granite City\, IL\, 62040\, United States
CATEGORIES:Kids
END:VEVENT
BEGIN:VEVENT
DTSTART;TZID=America/Chicago:20221115T170000
DTEND;TZID=America/Chicago:20221115T190000
DTSTAMP:20260424T033931
CREATED:20210818T164027Z
LAST-MODIFIED:20230608T233437Z
UID:10011819-1668531600-1668538800@www.smrld.org
SUMMARY:Legos
DESCRIPTION:Legos\nCome Build with Us!\nEvery Tuesday\n5 – 7 PM\nIn the Children’s Department\, 2001 Delmar Ave\nQuestions? Call the Youth Services department at 618-452-6238
URL:https://www.smrld.org/event/legos/2022-11-15/
LOCATION:Niedringhaus Building\, 2001 Delmar Avenue\, Granite City\, IL\, 62040\, United States
CATEGORIES:Kids
END:VEVENT
BEGIN:VEVENT
DTSTART;TZID=America/Chicago:20221115T170000
DTEND;TZID=America/Chicago:20221115T190000
DTSTAMP:20260424T033931
CREATED:20210818T164027Z
LAST-MODIFIED:20230608T233438Z
UID:10011904-1668531600-1668538800@www.smrld.org
SUMMARY:Legos
DESCRIPTION:Legos\nCome Build with Us!\nEvery Tuesday\n5 – 7 PM\nIn the Children’s Department\, 2001 Delmar Ave\nQuestions? Call the Youth Services department at 618-452-6238
URL:https://www.smrld.org/event/legos/2022-11-15/
LOCATION:Niedringhaus Building\, 2001 Delmar Avenue\, Granite City\, IL\, 62040\, United States
CATEGORIES:Kids
END:VEVENT
BEGIN:VEVENT
DTSTART;TZID=America/Chicago:20221115T170000
DTEND;TZID=America/Chicago:20221115T190000
DTSTAMP:20260424T033931
CREATED:20210818T164027Z
LAST-MODIFIED:20230608T233438Z
UID:10011988-1668531600-1668538800@www.smrld.org
SUMMARY:Legos
DESCRIPTION:Legos\nCome Build with Us!\nEvery Tuesday\n5 – 7 PM\nIn the Children’s Department\, 2001 Delmar Ave\nQuestions? Call the Youth Services department at 618-452-6238
URL:https://www.smrld.org/event/legos/2022-11-15/
LOCATION:Niedringhaus Building\, 2001 Delmar Avenue\, Granite City\, IL\, 62040\, United States
CATEGORIES:Kids
END:VEVENT
BEGIN:VEVENT
DTSTART;TZID=America/Chicago:20221115T170000
DTEND;TZID=America/Chicago:20221115T190000
DTSTAMP:20260424T033931
CREATED:20210818T164027Z
LAST-MODIFIED:20230608T233439Z
UID:10012071-1668531600-1668538800@www.smrld.org
SUMMARY:Legos
DESCRIPTION:Legos\nCome Build with Us!\nEvery Tuesday\n5 – 7 PM\nIn the Children’s Department\, 2001 Delmar Ave\nQuestions? Call the Youth Services department at 618-452-6238
URL:https://www.smrld.org/event/legos/2022-11-15/
LOCATION:Niedringhaus Building\, 2001 Delmar Avenue\, Granite City\, IL\, 62040\, United States
CATEGORIES:Kids
END:VEVENT
BEGIN:VEVENT
DTSTART;TZID=America/Chicago:20221115T170000
DTEND;TZID=America/Chicago:20221115T190000
DTSTAMP:20260424T033931
CREATED:20210818T164027Z
LAST-MODIFIED:20230608T233440Z
UID:10012153-1668531600-1668538800@www.smrld.org
SUMMARY:Legos
DESCRIPTION:Legos\nCome Build with Us!\nEvery Tuesday\n5 – 7 PM\nIn the Children’s Department\, 2001 Delmar Ave\nQuestions? Call the Youth Services department at 618-452-6238
URL:https://www.smrld.org/event/legos/2022-11-15/
LOCATION:Niedringhaus Building\, 2001 Delmar Avenue\, Granite City\, IL\, 62040\, United States
CATEGORIES:Kids
END:VEVENT
BEGIN:VEVENT
DTSTART;TZID=America/Chicago:20221115T170000
DTEND;TZID=America/Chicago:20221115T190000
DTSTAMP:20260424T033931
CREATED:20210818T164027Z
LAST-MODIFIED:20230608T233441Z
UID:10012234-1668531600-1668538800@www.smrld.org
SUMMARY:Legos
DESCRIPTION:Legos\nCome Build with Us!\nEvery Tuesday\n5 – 7 PM\nIn the Children’s Department\, 2001 Delmar Ave\nQuestions? Call the Youth Services department at 618-452-6238
URL:https://www.smrld.org/event/legos/2022-11-15/
LOCATION:Niedringhaus Building\, 2001 Delmar Avenue\, Granite City\, IL\, 62040\, United States
CATEGORIES:Kids
END:VEVENT
BEGIN:VEVENT
DTSTART;TZID=America/Chicago:20221115T170000
DTEND;TZID=America/Chicago:20221115T190000
DTSTAMP:20260424T033931
CREATED:20210818T164027Z
LAST-MODIFIED:20231129T003445Z
UID:10060659-1668531600-1668538800@www.smrld.org
SUMMARY:Legos
DESCRIPTION:Legos\nCome Build with Us!\nEvery Tuesday\n5 – 7 PM\nIn the Children’s Department\, 2001 Delmar Ave\nQuestions? Call the Youth Services department at 618-452-6238
URL:https://www.smrld.org/event/legos/2022-11-15/
LOCATION:Niedringhaus Building\, 2001 Delmar Avenue\, Granite City\, IL\, 62040\, United States
CATEGORIES:Kids
END:VEVENT
BEGIN:VEVENT
DTSTART;TZID=America/Chicago:20221115T170000
DTEND;TZID=America/Chicago:20221115T190000
DTSTAMP:20260424T033931
CREATED:20210818T164027Z
LAST-MODIFIED:20231129T003451Z
UID:10073525-1668531600-1668538800@www.smrld.org
SUMMARY:Legos
DESCRIPTION:Legos\nCome Build with Us!\nEvery Tuesday\n5 – 7 PM\nIn the Children’s Department\, 2001 Delmar Ave\nQuestions? Call the Youth Services department at 618-452-6238
URL:https://www.smrld.org/event/legos/2022-11-15/
LOCATION:Niedringhaus Building\, 2001 Delmar Avenue\, Granite City\, IL\, 62040\, United States
CATEGORIES:Kids
END:VEVENT
BEGIN:VEVENT
DTSTART;TZID=America/Chicago:20221115T170000
DTEND;TZID=America/Chicago:20221115T190000
DTSTAMP:20260424T033932
CREATED:20210818T164027Z
LAST-MODIFIED:20231129T003435Z
UID:10074254-1668531600-1668538800@www.smrld.org
SUMMARY:Legos
DESCRIPTION:Legos\nCome Build with Us!\nEvery Tuesday\n5 – 7 PM\nIn the Children’s Department\, 2001 Delmar Ave\nQuestions? Call the Youth Services department at 618-452-6238
URL:https://www.smrld.org/event/legos/2022-11-15/
LOCATION:Niedringhaus Building\, 2001 Delmar Avenue\, Granite City\, IL\, 62040\, United States
CATEGORIES:Kids
END:VEVENT
BEGIN:VEVENT
DTSTART;TZID=America/Chicago:20221115T170000
DTEND;TZID=America/Chicago:20221115T190000
DTSTAMP:20260424T033932
CREATED:20210818T164027Z
LAST-MODIFIED:20231129T003447Z
UID:10075039-1668531600-1668538800@www.smrld.org
SUMMARY:Legos
DESCRIPTION:Legos\nCome Build with Us!\nEvery Tuesday\n5 – 7 PM\nIn the Children’s Department\, 2001 Delmar Ave\nQuestions? Call the Youth Services department at 618-452-6238
URL:https://www.smrld.org/event/legos/2022-11-15/
LOCATION:Niedringhaus Building\, 2001 Delmar Avenue\, Granite City\, IL\, 62040\, United States
CATEGORIES:Kids
END:VEVENT
BEGIN:VEVENT
DTSTART;TZID=America/Chicago:20221115T170000
DTEND;TZID=America/Chicago:20221115T190000
DTSTAMP:20260424T033932
CREATED:20210818T164027Z
LAST-MODIFIED:20231129T003429Z
UID:10075438-1668531600-1668538800@www.smrld.org
SUMMARY:Legos
DESCRIPTION:Legos\nCome Build with Us!\nEvery Tuesday\n5 – 7 PM\nIn the Children’s Department\, 2001 Delmar Ave\nQuestions? Call the Youth Services department at 618-452-6238
URL:https://www.smrld.org/event/legos/2022-11-15/
LOCATION:Niedringhaus Building\, 2001 Delmar Avenue\, Granite City\, IL\, 62040\, United States
CATEGORIES:Kids
END:VEVENT
BEGIN:VEVENT
DTSTART;TZID=America/Chicago:20221115T170000
DTEND;TZID=America/Chicago:20221115T190000
DTSTAMP:20260424T033932
CREATED:20210818T164027Z
LAST-MODIFIED:20231129T003432Z
UID:10075986-1668531600-1668538800@www.smrld.org
SUMMARY:Legos
DESCRIPTION:Legos\nCome Build with Us!\nEvery Tuesday\n5 – 7 PM\nIn the Children’s Department\, 2001 Delmar Ave\nQuestions? Call the Youth Services department at 618-452-6238
URL:https://www.smrld.org/event/legos/2022-11-15/
LOCATION:Niedringhaus Building\, 2001 Delmar Avenue\, Granite City\, IL\, 62040\, United States
CATEGORIES:Kids
END:VEVENT
BEGIN:VEVENT
DTSTART;TZID=America/Chicago:20221115T170000
DTEND;TZID=America/Chicago:20221115T190000
DTSTAMP:20260424T033932
CREATED:20210818T164027Z
LAST-MODIFIED:20231129T003425Z
UID:10076145-1668531600-1668538800@www.smrld.org
SUMMARY:Legos
DESCRIPTION:Legos\nCome Build with Us!\nEvery Tuesday\n5 – 7 PM\nIn the Children’s Department\, 2001 Delmar Ave\nQuestions? Call the Youth Services department at 618-452-6238
URL:https://www.smrld.org/event/legos/2022-11-15/
LOCATION:Niedringhaus Building\, 2001 Delmar Avenue\, Granite City\, IL\, 62040\, United States
CATEGORIES:Kids
END:VEVENT
BEGIN:VEVENT
DTSTART;TZID=America/Chicago:20221115T170000
DTEND;TZID=America/Chicago:20221115T190000
DTSTAMP:20260424T033932
CREATED:20210818T164027Z
LAST-MODIFIED:20231129T003450Z
UID:10076259-1668531600-1668538800@www.smrld.org
SUMMARY:Legos
DESCRIPTION:Legos\nCome Build with Us!\nEvery Tuesday\n5 – 7 PM\nIn the Children’s Department\, 2001 Delmar Ave\nQuestions? Call the Youth Services department at 618-452-6238
URL:https://www.smrld.org/event/legos/2022-11-15/
LOCATION:Niedringhaus Building\, 2001 Delmar Avenue\, Granite City\, IL\, 62040\, United States
CATEGORIES:Kids
END:VEVENT
BEGIN:VEVENT
DTSTART;TZID=America/Chicago:20221115T170000
DTEND;TZID=America/Chicago:20221115T190000
DTSTAMP:20260424T033932
CREATED:20210818T164027Z
LAST-MODIFIED:20231129T003448Z
UID:10076541-1668531600-1668538800@www.smrld.org
SUMMARY:Legos
DESCRIPTION:Legos\nCome Build with Us!\nEvery Tuesday\n5 – 7 PM\nIn the Children’s Department\, 2001 Delmar Ave\nQuestions? Call the Youth Services department at 618-452-6238
URL:https://www.smrld.org/event/legos/2022-11-15/
LOCATION:Niedringhaus Building\, 2001 Delmar Avenue\, Granite City\, IL\, 62040\, United States
CATEGORIES:Kids
END:VEVENT
BEGIN:VEVENT
DTSTART;TZID=America/Chicago:20221115T170000
DTEND;TZID=America/Chicago:20221115T190000
DTSTAMP:20260424T033932
CREATED:20210818T164027Z
LAST-MODIFIED:20231129T003424Z
UID:10076701-1668531600-1668538800@www.smrld.org
SUMMARY:Legos
DESCRIPTION:Legos\nCome Build with Us!\nEvery Tuesday\n5 – 7 PM\nIn the Children’s Department\, 2001 Delmar Ave\nQuestions? Call the Youth Services department at 618-452-6238
URL:https://www.smrld.org/event/legos/2022-11-15/
LOCATION:Niedringhaus Building\, 2001 Delmar Avenue\, Granite City\, IL\, 62040\, United States
CATEGORIES:Kids
END:VEVENT
END:VCALENDAR