BEGIN:VCALENDAR
VERSION:2.0
PRODID:-//Six Mile Regional Library District - ECPv6.15.17//NONSGML v1.0//EN
CALSCALE:GREGORIAN
METHOD:PUBLISH
X-ORIGINAL-URL:https://www.smrld.org
X-WR-CALDESC:Events for Six Mile Regional Library District
REFRESH-INTERVAL;VALUE=DURATION:PT1H
X-Robots-Tag:noindex
X-PUBLISHED-TTL:PT1H
BEGIN:VTIMEZONE
TZID:America/Chicago
BEGIN:DAYLIGHT
TZOFFSETFROM:-0600
TZOFFSETTO:-0500
TZNAME:CDT
DTSTART:20230312T080000
END:DAYLIGHT
BEGIN:STANDARD
TZOFFSETFROM:-0500
TZOFFSETTO:-0600
TZNAME:CST
DTSTART:20231105T070000
END:STANDARD
BEGIN:DAYLIGHT
TZOFFSETFROM:-0600
TZOFFSETTO:-0500
TZNAME:CDT
DTSTART:20240310T080000
END:DAYLIGHT
BEGIN:STANDARD
TZOFFSETFROM:-0500
TZOFFSETTO:-0600
TZNAME:CST
DTSTART:20241103T070000
END:STANDARD
BEGIN:DAYLIGHT
TZOFFSETFROM:-0600
TZOFFSETTO:-0500
TZNAME:CDT
DTSTART:20250309T080000
END:DAYLIGHT
BEGIN:STANDARD
TZOFFSETFROM:-0500
TZOFFSETTO:-0600
TZNAME:CST
DTSTART:20251102T070000
END:STANDARD
END:VTIMEZONE
BEGIN:VEVENT
DTSTART;TZID=America/Chicago:20240725T150000
DTEND;TZID=America/Chicago:20240725T163000
DTSTAMP:20260421T133110
CREATED:20240516T155256Z
LAST-MODIFIED:20240516T155256Z
UID:10081262-1721919600-1721925000@www.smrld.org
SUMMARY:Job Search Training Session Series 
DESCRIPTION:Job Search Training Session Series \n\n\n\n\n\n\npresented by expert\, Frank Alaniz\nApplicant Tracking Systems  – Thursday\, June 27th from 3-4:30 PM\nLinkedIn Optimization – Thursday\, July 25th from 3-4:30 PM\nInterviewing Skills – Thursday\, August 8th from 3-4:30 PM\nLibrary Training and Events Room\, 2001 Delmar Ave\, In person and via Zoom.\n\nCome in person and receive a five minute review of your resume\n\nRegistration is required. Please call 618-452-6238 or go to https://tinyurl.com/smrldjobs2024 to register.
URL:https://www.smrld.org/event/job-search-training-session-series-6/2024-07-25/
LOCATION:Niedringhaus Building\, 2001 Delmar Avenue\, Granite City\, IL\, 62040\, United States
CATEGORIES:Adults
END:VEVENT
END:VCALENDAR