BEGIN:VCALENDAR
VERSION:2.0
PRODID:-//Six Mile Regional Library District - ECPv6.15.17//NONSGML v1.0//EN
CALSCALE:GREGORIAN
METHOD:PUBLISH
X-ORIGINAL-URL:https://www.smrld.org
X-WR-CALDESC:Events for Six Mile Regional Library District
REFRESH-INTERVAL;VALUE=DURATION:PT1H
X-Robots-Tag:noindex
X-PUBLISHED-TTL:PT1H
BEGIN:VTIMEZONE
TZID:America/Chicago
BEGIN:DAYLIGHT
TZOFFSETFROM:-0600
TZOFFSETTO:-0500
TZNAME:CDT
DTSTART:20230312T080000
END:DAYLIGHT
BEGIN:STANDARD
TZOFFSETFROM:-0500
TZOFFSETTO:-0600
TZNAME:CST
DTSTART:20231105T070000
END:STANDARD
BEGIN:DAYLIGHT
TZOFFSETFROM:-0600
TZOFFSETTO:-0500
TZNAME:CDT
DTSTART:20240310T080000
END:DAYLIGHT
BEGIN:STANDARD
TZOFFSETFROM:-0500
TZOFFSETTO:-0600
TZNAME:CST
DTSTART:20241103T070000
END:STANDARD
BEGIN:DAYLIGHT
TZOFFSETFROM:-0600
TZOFFSETTO:-0500
TZNAME:CDT
DTSTART:20250309T080000
END:DAYLIGHT
BEGIN:STANDARD
TZOFFSETFROM:-0500
TZOFFSETTO:-0600
TZNAME:CST
DTSTART:20251102T070000
END:STANDARD
END:VTIMEZONE
BEGIN:VEVENT
DTSTART;TZID=America/Chicago:20240827T183000
DTEND;TZID=America/Chicago:20240827T193000
DTSTAMP:20260423T035853
CREATED:20230809T182640Z
LAST-MODIFIED:20240806T153729Z
UID:10030265-1724783400-1724787000@www.smrld.org
SUMMARY:Book Club!
DESCRIPTION:Book Club!\n\n\n\n\nJoin the Six Mile Regional Library Book Club\n\nThe Yellow House by Sarah M Broom – Monday\, September 25\, 11 AM  Meme’s Coffee Shop\, 1529 Johnson Rd or Tuesday\, September 26\, 6:30 PM SMRLD\, 2001 Delmar Ave \n\nThe Little Old Lady Who Broke All the Rules by Catharina Sunberg – Monday\, October 30\, 11:00 AM at SMRLD\, 2145 Johnson Rd (Location Change)  or Tuesday\, October 31\, at 6:30 PM SMRLD\, 2001 Delmar Ave\nNeverhome by Laird Hunt – Monday\, November 27\, 11:00 AM Meme’s Coffee Shop\, 1529 Johnson Rd or Tuesday\, November 28\, 6:30 PM  SMRLD\, 2001 Delmar Ave\n\n\n\n\nCopies of the book are available at both libraries.\nQuestions? Call 618-452-6238 ext. 785
URL:https://www.smrld.org/event/book-club-57/2024-08-27/
LOCATION:Niedringhaus Building\, 2001 Delmar Avenue\, Granite City\, IL\, 62040\, United States
CATEGORIES:Adults
END:VEVENT
BEGIN:VEVENT
DTSTART;TZID=America/Chicago:20240827T183000
DTEND;TZID=America/Chicago:20240827T193000
DTSTAMP:20260423T035853
CREATED:20240516T160943Z
LAST-MODIFIED:20240516T160943Z
UID:10081285-1724783400-1724787000@www.smrld.org
SUMMARY:Book Club!
DESCRIPTION:Book Club!\n\n\n\nJoin the Six Mile Regional Library Book Club\nA Walk In the Woods by Bill Bryson – Monday\, June 24\, 11:00 AM Meme’s Coffee Shop\, 1529 Johnson Rd or Tuesday\, June 25\, 6:30 PM SMRLD\, 2001 Delmar Ave\nStranger Diaries by Elly Griffiths – Monday\, July 29\, 11:00 AM Meme’s Coffee Shop\, 1529 Johnson Rd or Tuesday\, July 30\, 6:30 PM SMRLD\, 2001 Delmar Ave\nCan’t We Talk About Something More Pleasant? by Roz Chast – Monday\, August 26\, 11:00 AM Meme’s Coffee Shop\, 1529 Johnson Rd or Tuesday\, August 27\, 6:30 PM SMRLD\, 2001 Delmar Ave \n\n\n\nCopies of the book are available at both libraries.\nQuestions? Call 618-452-6238 ext. 785
URL:https://www.smrld.org/event/book-club-63/2024-08-27/
LOCATION:Niedringhaus Building\, 2001 Delmar Avenue\, Granite City\, IL\, 62040\, United States
CATEGORIES:Adults
END:VEVENT
BEGIN:VEVENT
DTSTART;TZID=America/Chicago:20240831T100000
DTEND;TZID=America/Chicago:20240831T120000
DTSTAMP:20260423T035853
CREATED:20240516T155908Z
LAST-MODIFIED:20240516T155908Z
UID:10081279-1725098400-1725105600@www.smrld.org
SUMMARY:​3D Printing Demonstration
DESCRIPTION:​3D Printing Demonstration\nSaturday\, August 31st 10AM – 12PM\n2145 Johnson Rd\nFinding\, sharing\, and printing 3D objects\n\nQuestions? Call 618-452-6238
URL:https://www.smrld.org/event/3d-printing-demonstration/
LOCATION:Johnson Road Branch\, 2145 Johnson Road\, Granite City\, IL\, 62040\, United States
CATEGORIES:Adults
END:VEVENT
BEGIN:VEVENT
DTSTART;TZID=America/Chicago:20240910T180000
DTEND;TZID=America/Chicago:20240910T200000
DTSTAMP:20260423T035853
CREATED:20231115T164425Z
LAST-MODIFIED:20241218T181907Z
UID:10073839-1725991200-1725998400@www.smrld.org
SUMMARY:Board of Trustees Meeting
DESCRIPTION:Board of Trustees Meetings Schedule
URL:https://www.smrld.org/event/board-of-trustees-meeting-16/2024-09-10/
LOCATION:Niedringhaus Building\, 2001 Delmar Avenue\, Granite City\, IL\, 62040\, United States
CATEGORIES:Adults
END:VEVENT
BEGIN:VEVENT
DTSTART;TZID=America/Chicago:20240912T150000
DTEND;TZID=America/Chicago:20240912T163000
DTSTAMP:20260423T035853
CREATED:20240805T191917Z
LAST-MODIFIED:20240805T191917Z
UID:10081626-1726153200-1726158600@www.smrld.org
SUMMARY:Job Search Training Session Series
DESCRIPTION:Job Search Training Session Series \n\n\n\n\n\npresented by expert\, Frank Alaniz\nArtificial Intelligence Tools to Find a Job – Thursday\, September 12th from 3-4:30 PM \nCreating Your Resume – Thursday\, September 26th from 12-1:30 PM \nInterviewing Skills – Thursday\, October 17th from 3-4:30 PM\nLibrary Training and Events Room\, 2001 Delmar Ave\, In person and via Zoom.\n\nCome in person and receive a five minute review of your resume\n\nRegistration is required. Please call 618-452-6238 or go to https://tinyurl.com/smrldjobs2024 to register.
URL:https://www.smrld.org/event/job-search-training-session-series-7/2024-09-12/
LOCATION:Niedringhaus Building\, 2001 Delmar Avenue\, Granite City\, IL\, 62040\, United States
CATEGORIES:Adults
END:VEVENT
BEGIN:VEVENT
DTSTART;TZID=America/Chicago:20240914T140000
DTEND;TZID=America/Chicago:20240914T153000
DTSTAMP:20260423T035853
CREATED:20240805T191410Z
LAST-MODIFIED:20240805T191410Z
UID:10081621-1726322400-1726327800@www.smrld.org
SUMMARY:Fall Craft Series
DESCRIPTION:Fall Craft Series\nSept 14: Rope Pumpkins\nOct 5: Bat Wing Bookmarks\nOct 26: Cork Pumpkins\nNov 23: DIY Bath Soak\n\nSaturdays\, 2-3:30 PM\n2001 Delmar Ave\n18+ Adult crafts\nRegistration required – Call 618-452-6238
URL:https://www.smrld.org/event/fall-craft-series/2024-09-14/
LOCATION:Niedringhaus Building\, 2001 Delmar Avenue\, Granite City\, IL\, 62040\, United States
CATEGORIES:Adults
END:VEVENT
BEGIN:VEVENT
DTSTART;TZID=America/Chicago:20240916T170000
DTEND;TZID=America/Chicago:20240916T190000
DTSTAMP:20260423T035853
CREATED:20240205T210911Z
LAST-MODIFIED:20240805T194203Z
UID:10081167-1726506000-1726513200@www.smrld.org
SUMMARY:SMRLD Walking Club
DESCRIPTION:SMRLD Walking Club\nJoin us for a walk around\nWilson Park\nevery 3rd Monday\nApril – October\n5 PM\nMeet at Ice Rink parking lot\n\nApril 15; May 20; June 17 (Canceled Due to Weather); July 15 (Canceled Due to Weather); August 19; September 16; October 21; and November 18\n\n\nCancellations due to weather will be announced via Facebook by 2 PM on the day of the event.\nQuestions? Call 618-452-6238 ext 730 or email damanager@smrld.org
URL:https://www.smrld.org/event/smrld-walking-club/2024-09-16/
LOCATION:Wilson Park\, 2900 Benton Street\, Granite City\, IL\, 62040\, United States
CATEGORIES:Adults
END:VEVENT
BEGIN:VEVENT
DTSTART;TZID=America/Chicago:20240921T110000
DTEND;TZID=America/Chicago:20240921T130000
DTSTAMP:20260423T035853
CREATED:20240805T193909Z
LAST-MODIFIED:20241003T164259Z
UID:10081636-1726916400-1726923600@www.smrld.org
SUMMARY:All Wound Up
DESCRIPTION:All Wound Up\n\n\n\n\n\nBeginning yarn crafts 11AM – 1PM\n\nSaturday\, August 17th – Knitting for Beginners\n\nSaturday\, September 21st  – Knitting for Beginners\nCANCELED Saturday\, October 19th – Simple Crochet Stitches\nSaturday\, November 16th – Simple Crochet Stitches\nLimited to 8 people\n2145 Johnson Road\nRegister at tinyurl.com/allwoundup2 or call 618-452-6238
URL:https://www.smrld.org/event/all-wound-up-6/2024-09-21/
LOCATION:Johnson Road Branch\, 2145 Johnson Road\, Granite City\, IL\, 62040\, United States
CATEGORIES:Adults
END:VEVENT
BEGIN:VEVENT
DTSTART;TZID=America/Chicago:20240924T183000
DTEND;TZID=America/Chicago:20240924T193000
DTSTAMP:20260423T035853
CREATED:20240805T193032Z
LAST-MODIFIED:20240805T193032Z
UID:10081632-1727202600-1727206200@www.smrld.org
SUMMARY:Book Club!
DESCRIPTION:Book Club!\n\n\n\nJoin the Six Mile Regional Library Book Club\nThe 57 Bus by Dashka Slater – Monday\, September 30 at 11:00 AM Meme’s Coffee Shop\, 1529 Johnson Rd or Tuesday\, September 24 at 6:30 PM SMRLD\, 2001 Delmar Ave \n\n\n\nThe Cuban Heiress by Chanel Cleeton  – Monday\, October 28 at 11:00 AM Meme’s Coffee Shop\, 1529 Johnson Rd or Tuesday\, October 29  at 6:30 PM SMRLD\, 2001 Delmar Ave\n\nA The Lost Journals of Sacajewea by Debra Magpie Earling – Monday\, November 25 at 11:00 AM Meme’s Coffee Shop\, 1529 Johnson Rd or Tuesday\, November 26 at 6:30 PM SMRLD\, 2001 Delmar Ave \n\nCopies of the book are available at both libraries.\nQuestions? Call 618-452-6238 ext. 785
URL:https://www.smrld.org/event/book-club-65/2024-09-24/
LOCATION:Niedringhaus Building\, 2001 Delmar Avenue\, Granite City\, IL\, 62040\, United States
CATEGORIES:Adults
END:VEVENT
BEGIN:VEVENT
DTSTART;TZID=America/Chicago:20240926T120000
DTEND;TZID=America/Chicago:20240926T133000
DTSTAMP:20260423T035853
CREATED:20240805T191917Z
LAST-MODIFIED:20240805T191917Z
UID:10081627-1727352000-1727357400@www.smrld.org
SUMMARY:Job Search Training Session Series
DESCRIPTION:Job Search Training Session Series \n\n\n\n\n\npresented by expert\, Frank Alaniz\nArtificial Intelligence Tools to Find a Job – Thursday\, September 12th from 3-4:30 PM \nCreating Your Resume – Thursday\, September 26th from 12-1:30 PM \nInterviewing Skills – Thursday\, October 17th from 3-4:30 PM\nLibrary Training and Events Room\, 2001 Delmar Ave\, In person and via Zoom.\n\nCome in person and receive a five minute review of your resume\n\nRegistration is required. Please call 618-452-6238 or go to https://tinyurl.com/smrldjobs2024 to register.
URL:https://www.smrld.org/event/job-search-training-session-series-7/2024-09-26/
LOCATION:Niedringhaus Building\, 2001 Delmar Avenue\, Granite City\, IL\, 62040\, United States
CATEGORIES:Adults
END:VEVENT
BEGIN:VEVENT
DTSTART;TZID=America/Chicago:20240926T170000
DTEND;TZID=America/Chicago:20240926T190000
DTSTAMP:20260423T035853
CREATED:20240805T191613Z
LAST-MODIFIED:20240805T191613Z
UID:10081625-1727370000-1727377200@www.smrld.org
SUMMARY:Hispanic Heritage Month! | ¡Mes de la Herencia Hispana!
DESCRIPTION:Hispanic Heritage Month!\nThursday\, Sept 26th\nPiñata\, Mexican Bingo\nConchas\, craft\, Bachata dance instruction by Effervescent Studios\n¡Mes de la Herencia Hispana!\nJueves\, 26 de septiembre\nPiñata\, Lotería Mexicana\nConchas (pan dulce) Manualidad\,Clase de Bachata por Effervescent Studios\n5-7 PM | 2001 Delmar Ave\nQuestions? Call 618-452-6238
URL:https://www.smrld.org/event/hispanic-heritage-month-mes-de-la-herencia-hispana/
LOCATION:Niedringhaus Building\, 2001 Delmar Avenue\, Granite City\, IL\, 62040\, United States
CATEGORIES:Adults
END:VEVENT
BEGIN:VEVENT
DTSTART;TZID=America/Chicago:20240930T110000
DTEND;TZID=America/Chicago:20240930T120000
DTSTAMP:20260423T035853
CREATED:20240805T192944Z
LAST-MODIFIED:20240805T192944Z
UID:10081629-1727694000-1727697600@www.smrld.org
SUMMARY:Book Club!
DESCRIPTION:Book Club!\n\n\n\nJoin the Six Mile Regional Library Book Club\nThe 57 Bus by Dashka Slater – Monday\, September 30 at 11:00 AM Meme’s Coffee Shop\, 1529 Johnson Rd or Tuesday\, September 24 at 6:30 PM SMRLD\, 2001 Delmar Ave \n\n\n\nThe Cuban Heiress by Chanel Cleeton  – Monday\, October 28 at 11:00 AM Meme’s Coffee Shop\, 1529 Johnson Rd or Tuesday\, October 29  at 6:30 PM SMRLD\, 2001 Delmar Ave\n\nA The Lost Journals of Sacajewea by Debra Magpie Earling – Monday\, November 25 at 11:00 AM Meme’s Coffee Shop\, 1529 Johnson Rd or Tuesday\, November 26 at 6:30 PM SMRLD\, 2001 Delmar Ave \n\nCopies of the book are available at both libraries.\nQuestions? Call 618-452-6238 ext. 785
URL:https://www.smrld.org/event/book-club-64/2024-09-30/
LOCATION:Meme’s Coffee Shop\, 1529 Johnson Rd\, Granite City\, IL\, 62040\, United States
CATEGORIES:Adults
END:VEVENT
BEGIN:VEVENT
DTSTART;TZID=America/Chicago:20241005T140000
DTEND;TZID=America/Chicago:20241005T153000
DTSTAMP:20260423T035853
CREATED:20240805T191410Z
LAST-MODIFIED:20240805T191410Z
UID:10081622-1728136800-1728142200@www.smrld.org
SUMMARY:Fall Craft Series
DESCRIPTION:Fall Craft Series\nSept 14: Rope Pumpkins\nOct 5: Bat Wing Bookmarks\nOct 26: Cork Pumpkins\nNov 23: DIY Bath Soak\n\nSaturdays\, 2-3:30 PM\n2001 Delmar Ave\n18+ Adult crafts\nRegistration required – Call 618-452-6238
URL:https://www.smrld.org/event/fall-craft-series/2024-10-05/
LOCATION:Niedringhaus Building\, 2001 Delmar Avenue\, Granite City\, IL\, 62040\, United States
CATEGORIES:Adults
END:VEVENT
BEGIN:VEVENT
DTSTART;TZID=America/Chicago:20241008T180000
DTEND;TZID=America/Chicago:20241008T200000
DTSTAMP:20260423T035853
CREATED:20231115T164425Z
LAST-MODIFIED:20241218T181907Z
UID:10073840-1728410400-1728417600@www.smrld.org
SUMMARY:Board of Trustees Meeting
DESCRIPTION:Board of Trustees Meetings Schedule
URL:https://www.smrld.org/event/board-of-trustees-meeting-16/2024-10-08/
LOCATION:Niedringhaus Building\, 2001 Delmar Avenue\, Granite City\, IL\, 62040\, United States
CATEGORIES:Adults
END:VEVENT
BEGIN:VEVENT
DTSTART;TZID=America/Chicago:20241010T180000
DTEND;TZID=America/Chicago:20241010T190000
DTSTAMP:20260423T035853
CREATED:20240805T194012Z
LAST-MODIFIED:20240805T194012Z
UID:10081639-1728583200-1728586800@www.smrld.org
SUMMARY:Abraham Lincoln and the Spirit World
DESCRIPTION:Abraham Lincoln and the Spirit World\n\nThursday\, October 10 at 6 PM\n2001 Delmar Ave\n\nJoin author Troy Taylor for the true story of Abraham Lincoln\, America’s most haunted president! Discover his brushes with the supernatural\, his premonitions of death\, his embrace of Spiritualism\, his ghostly funeral train\, and a spirited afterlife as one of the most well-traveled ghosts in American history! This will be a night of haunted history that you don’t want to miss!
URL:https://www.smrld.org/event/abraham-lincoln-and-the-spirit-world/
LOCATION:Niedringhaus Building\, 2001 Delmar Avenue\, Granite City\, IL\, 62040\, United States
CATEGORIES:Adults
END:VEVENT
BEGIN:VEVENT
DTSTART;TZID=America/Chicago:20241017T150000
DTEND;TZID=America/Chicago:20241017T163000
DTSTAMP:20260423T035853
CREATED:20240805T191917Z
LAST-MODIFIED:20240805T191917Z
UID:10081628-1729177200-1729182600@www.smrld.org
SUMMARY:Job Search Training Session Series
DESCRIPTION:Job Search Training Session Series \n\n\n\n\n\npresented by expert\, Frank Alaniz\nArtificial Intelligence Tools to Find a Job – Thursday\, September 12th from 3-4:30 PM \nCreating Your Resume – Thursday\, September 26th from 12-1:30 PM \nInterviewing Skills – Thursday\, October 17th from 3-4:30 PM\nLibrary Training and Events Room\, 2001 Delmar Ave\, In person and via Zoom.\n\nCome in person and receive a five minute review of your resume\n\nRegistration is required. Please call 618-452-6238 or go to https://tinyurl.com/smrldjobs2024 to register.
URL:https://www.smrld.org/event/job-search-training-session-series-7/2024-10-17/
LOCATION:Niedringhaus Building\, 2001 Delmar Avenue\, Granite City\, IL\, 62040\, United States
CATEGORIES:Adults
END:VEVENT
BEGIN:VEVENT
DTSTART;TZID=America/Chicago:20241019T110000
DTEND;TZID=America/Chicago:20241019T130000
DTSTAMP:20260423T035853
CREATED:20241003T164644Z
LAST-MODIFIED:20241003T164644Z
UID:10081760-1729335600-1729342800@www.smrld.org
SUMMARY:CANCELED - All Wound Up
DESCRIPTION:All Wound Up\n\n\n\n\n\nBeginning yarn crafts 11AM – 1PM\n\nSaturday\, August 17th – Knitting for Beginners\n\nSaturday\, September 21st  – Knitting for Beginners\nCANCELED Saturday\, October 19th – Simple Crochet Stitches\nSaturday\, November 16th – Simple Crochet Stitches\nLimited to 8 people\n2145 Johnson Road\nRegister at tinyurl.com/allwoundup2 or call 618-452-6238
URL:https://www.smrld.org/event/canceled-all-wound-up/
LOCATION:Johnson Road Branch\, 2145 Johnson Road\, Granite City\, IL\, 62040\, United States
CATEGORIES:Adults
END:VEVENT
BEGIN:VEVENT
DTSTART;TZID=America/Chicago:20241021T170000
DTEND;TZID=America/Chicago:20241021T190000
DTSTAMP:20260423T035853
CREATED:20240205T210911Z
LAST-MODIFIED:20240805T194203Z
UID:10081168-1729530000-1729537200@www.smrld.org
SUMMARY:SMRLD Walking Club
DESCRIPTION:SMRLD Walking Club\nJoin us for a walk around\nWilson Park\nevery 3rd Monday\nApril – October\n5 PM\nMeet at Ice Rink parking lot\n\nApril 15; May 20; June 17 (Canceled Due to Weather); July 15 (Canceled Due to Weather); August 19; September 16; October 21; and November 18\n\n\nCancellations due to weather will be announced via Facebook by 2 PM on the day of the event.\nQuestions? Call 618-452-6238 ext 730 or email damanager@smrld.org
URL:https://www.smrld.org/event/smrld-walking-club/2024-10-21/
LOCATION:Wilson Park\, 2900 Benton Street\, Granite City\, IL\, 62040\, United States
CATEGORIES:Adults
END:VEVENT
BEGIN:VEVENT
DTSTART;TZID=America/Chicago:20241026T140000
DTEND;TZID=America/Chicago:20241026T153000
DTSTAMP:20260423T035853
CREATED:20240805T191410Z
LAST-MODIFIED:20240805T191410Z
UID:10081623-1729951200-1729956600@www.smrld.org
SUMMARY:Fall Craft Series
DESCRIPTION:Fall Craft Series\nSept 14: Rope Pumpkins\nOct 5: Bat Wing Bookmarks\nOct 26: Cork Pumpkins\nNov 23: DIY Bath Soak\n\nSaturdays\, 2-3:30 PM\n2001 Delmar Ave\n18+ Adult crafts\nRegistration required – Call 618-452-6238
URL:https://www.smrld.org/event/fall-craft-series/2024-10-26/
LOCATION:Niedringhaus Building\, 2001 Delmar Avenue\, Granite City\, IL\, 62040\, United States
CATEGORIES:Adults
END:VEVENT
BEGIN:VEVENT
DTSTART;TZID=America/Chicago:20241028T110000
DTEND;TZID=America/Chicago:20241028T120000
DTSTAMP:20260423T035853
CREATED:20240805T192944Z
LAST-MODIFIED:20240805T192944Z
UID:10081630-1730113200-1730116800@www.smrld.org
SUMMARY:Book Club!
DESCRIPTION:Book Club!\n\n\n\nJoin the Six Mile Regional Library Book Club\nThe 57 Bus by Dashka Slater – Monday\, September 30 at 11:00 AM Meme’s Coffee Shop\, 1529 Johnson Rd or Tuesday\, September 24 at 6:30 PM SMRLD\, 2001 Delmar Ave \n\n\n\nThe Cuban Heiress by Chanel Cleeton  – Monday\, October 28 at 11:00 AM Meme’s Coffee Shop\, 1529 Johnson Rd or Tuesday\, October 29  at 6:30 PM SMRLD\, 2001 Delmar Ave\n\nA The Lost Journals of Sacajewea by Debra Magpie Earling – Monday\, November 25 at 11:00 AM Meme’s Coffee Shop\, 1529 Johnson Rd or Tuesday\, November 26 at 6:30 PM SMRLD\, 2001 Delmar Ave \n\nCopies of the book are available at both libraries.\nQuestions? Call 618-452-6238 ext. 785
URL:https://www.smrld.org/event/book-club-64/2024-10-28/
LOCATION:Meme’s Coffee Shop\, 1529 Johnson Rd\, Granite City\, IL\, 62040\, United States
CATEGORIES:Adults
END:VEVENT
BEGIN:VEVENT
DTSTART;TZID=America/Chicago:20241029T183000
DTEND;TZID=America/Chicago:20241029T193000
DTSTAMP:20260423T035853
CREATED:20240805T193032Z
LAST-MODIFIED:20240805T193032Z
UID:10081633-1730226600-1730230200@www.smrld.org
SUMMARY:Book Club!
DESCRIPTION:Book Club!\n\n\n\nJoin the Six Mile Regional Library Book Club\nThe 57 Bus by Dashka Slater – Monday\, September 30 at 11:00 AM Meme’s Coffee Shop\, 1529 Johnson Rd or Tuesday\, September 24 at 6:30 PM SMRLD\, 2001 Delmar Ave \n\n\n\nThe Cuban Heiress by Chanel Cleeton  – Monday\, October 28 at 11:00 AM Meme’s Coffee Shop\, 1529 Johnson Rd or Tuesday\, October 29  at 6:30 PM SMRLD\, 2001 Delmar Ave\n\nA The Lost Journals of Sacajewea by Debra Magpie Earling – Monday\, November 25 at 11:00 AM Meme’s Coffee Shop\, 1529 Johnson Rd or Tuesday\, November 26 at 6:30 PM SMRLD\, 2001 Delmar Ave \n\nCopies of the book are available at both libraries.\nQuestions? Call 618-452-6238 ext. 785
URL:https://www.smrld.org/event/book-club-65/2024-10-29/
LOCATION:Niedringhaus Building\, 2001 Delmar Avenue\, Granite City\, IL\, 62040\, United States
CATEGORIES:Adults
END:VEVENT
BEGIN:VEVENT
DTSTART;TZID=America/Chicago:20241107T170000
DTEND;TZID=America/Chicago:20241107T180000
DTSTAMP:20260423T035853
CREATED:20241010T151424Z
LAST-MODIFIED:20241010T151424Z
UID:10081763-1730998800-1731002400@www.smrld.org
SUMMARY:Be Winter Weather Ready
DESCRIPTION:Be Winter Weather Ready\nThursday\, November 7\n5PM\n2001 Delmar Ave \nAre you prepared for the winter weather? Become part of the Weather Ready Nation!\nMarshall Pfahler\, meteorologist from the National Weather Service St. Louis\, will discuss winter storms\, how to best prepare for the changing season\, and safe practices when you have to be on the road\nIn Partnership with : The National Weather Service and The National Oceanic and Atmospheric Administration (NOAA)
URL:https://www.smrld.org/event/be-winter-weather-ready/
LOCATION:Niedringhaus Building\, 2001 Delmar Avenue\, Granite City\, IL\, 62040\, United States
CATEGORIES:Adults
END:VEVENT
BEGIN:VEVENT
DTSTART;TZID=America/Chicago:20241112T180000
DTEND;TZID=America/Chicago:20241112T200000
DTSTAMP:20260423T035853
CREATED:20231115T164425Z
LAST-MODIFIED:20241218T181907Z
UID:10073841-1731434400-1731441600@www.smrld.org
SUMMARY:Board of Trustees Meeting
DESCRIPTION:Board of Trustees Meetings Schedule
URL:https://www.smrld.org/event/board-of-trustees-meeting-16/2024-11-12/
LOCATION:Niedringhaus Building\, 2001 Delmar Avenue\, Granite City\, IL\, 62040\, United States
CATEGORIES:Adults
END:VEVENT
BEGIN:VEVENT
DTSTART;TZID=America/Chicago:20241114T173000
DTEND;TZID=America/Chicago:20241114T193000
DTSTAMP:20260423T035853
CREATED:20240805T193205Z
LAST-MODIFIED:20240805T193205Z
UID:10081635-1731605400-1731612600@www.smrld.org
SUMMARY:Board Game Night
DESCRIPTION:Board Game Night\nThursday\, November 14th\n5:30PM-7:30PM\n2001 Delmar Ave\nQuestions? Call 618-452-6238
URL:https://www.smrld.org/event/board-game-night/
LOCATION:Niedringhaus Building\, 2001 Delmar Avenue\, Granite City\, IL\, 62040\, United States
CATEGORIES:Adults
END:VEVENT
BEGIN:VEVENT
DTSTART;TZID=America/Chicago:20241116T110000
DTEND;TZID=America/Chicago:20241116T130000
DTSTAMP:20260423T035853
CREATED:20240805T193909Z
LAST-MODIFIED:20241003T164259Z
UID:10081638-1731754800-1731762000@www.smrld.org
SUMMARY:All Wound Up
DESCRIPTION:All Wound Up\n\n\n\n\n\nBeginning yarn crafts 11AM – 1PM\n\nSaturday\, August 17th – Knitting for Beginners\n\nSaturday\, September 21st  – Knitting for Beginners\nCANCELED Saturday\, October 19th – Simple Crochet Stitches\nSaturday\, November 16th – Simple Crochet Stitches\nLimited to 8 people\n2145 Johnson Road\nRegister at tinyurl.com/allwoundup2 or call 618-452-6238
URL:https://www.smrld.org/event/all-wound-up-6/2024-11-16/
LOCATION:Johnson Road Branch\, 2145 Johnson Road\, Granite City\, IL\, 62040\, United States
CATEGORIES:Adults
END:VEVENT
BEGIN:VEVENT
DTSTART;TZID=America/Chicago:20241118T170000
DTEND;TZID=America/Chicago:20241118T190000
DTSTAMP:20260423T035853
CREATED:20241118T162125Z
LAST-MODIFIED:20241118T162128Z
UID:10081640-1731949200-1731956400@www.smrld.org
SUMMARY:Canceled - SMRLD Walking Club
DESCRIPTION:SMRLD Walking Club\nJoin us for a walk around\nWilson Park\nevery 3rd Monday\nApril – October\n5 PM\nMeet at Ice Rink parking lot\n\nApril 15; May 20; June 17 (Canceled Due to Weather); July 15 (Canceled Due to Weather); August 19; September 16; October 21; and November 18 (Canceled Due to Weather)\n\n\nCancellations due to weather will be announced via Facebook by 2 PM on the day of the event.\nQuestions? Call 618-452-6238 ext 730 or email damanager@smrld.org
URL:https://www.smrld.org/event/smrld-walking-club-4/
LOCATION:Wilson Park\, 2900 Benton Street\, Granite City\, IL\, 62040\, United States
CATEGORIES:Adults
END:VEVENT
BEGIN:VEVENT
DTSTART;TZID=America/Chicago:20241123T140000
DTEND;TZID=America/Chicago:20241123T153000
DTSTAMP:20260423T035853
CREATED:20240805T191410Z
LAST-MODIFIED:20240805T191410Z
UID:10081624-1732370400-1732375800@www.smrld.org
SUMMARY:Fall Craft Series
DESCRIPTION:Fall Craft Series\nSept 14: Rope Pumpkins\nOct 5: Bat Wing Bookmarks\nOct 26: Cork Pumpkins\nNov 23: DIY Bath Soak\n\nSaturdays\, 2-3:30 PM\n2001 Delmar Ave\n18+ Adult crafts\nRegistration required – Call 618-452-6238
URL:https://www.smrld.org/event/fall-craft-series/2024-11-23/
LOCATION:Niedringhaus Building\, 2001 Delmar Avenue\, Granite City\, IL\, 62040\, United States
CATEGORIES:Adults
END:VEVENT
BEGIN:VEVENT
DTSTART;TZID=America/Chicago:20241125T110000
DTEND;TZID=America/Chicago:20241125T120000
DTSTAMP:20260423T035853
CREATED:20240805T192944Z
LAST-MODIFIED:20240805T192944Z
UID:10081631-1732532400-1732536000@www.smrld.org
SUMMARY:Book Club!
DESCRIPTION:Book Club!\n\n\n\nJoin the Six Mile Regional Library Book Club\nThe 57 Bus by Dashka Slater – Monday\, September 30 at 11:00 AM Meme’s Coffee Shop\, 1529 Johnson Rd or Tuesday\, September 24 at 6:30 PM SMRLD\, 2001 Delmar Ave \n\n\n\nThe Cuban Heiress by Chanel Cleeton  – Monday\, October 28 at 11:00 AM Meme’s Coffee Shop\, 1529 Johnson Rd or Tuesday\, October 29  at 6:30 PM SMRLD\, 2001 Delmar Ave\n\nA The Lost Journals of Sacajewea by Debra Magpie Earling – Monday\, November 25 at 11:00 AM Meme’s Coffee Shop\, 1529 Johnson Rd or Tuesday\, November 26 at 6:30 PM SMRLD\, 2001 Delmar Ave \n\nCopies of the book are available at both libraries.\nQuestions? Call 618-452-6238 ext. 785
URL:https://www.smrld.org/event/book-club-64/2024-11-25/
LOCATION:Meme’s Coffee Shop\, 1529 Johnson Rd\, Granite City\, IL\, 62040\, United States
CATEGORIES:Adults
END:VEVENT
BEGIN:VEVENT
DTSTART;TZID=America/Chicago:20241126T183000
DTEND;TZID=America/Chicago:20241126T193000
DTSTAMP:20260423T035853
CREATED:20240805T193032Z
LAST-MODIFIED:20240805T193032Z
UID:10081634-1732645800-1732649400@www.smrld.org
SUMMARY:Book Club!
DESCRIPTION:Book Club!\n\n\n\nJoin the Six Mile Regional Library Book Club\nThe 57 Bus by Dashka Slater – Monday\, September 30 at 11:00 AM Meme’s Coffee Shop\, 1529 Johnson Rd or Tuesday\, September 24 at 6:30 PM SMRLD\, 2001 Delmar Ave \n\n\n\nThe Cuban Heiress by Chanel Cleeton  – Monday\, October 28 at 11:00 AM Meme’s Coffee Shop\, 1529 Johnson Rd or Tuesday\, October 29  at 6:30 PM SMRLD\, 2001 Delmar Ave\n\nA The Lost Journals of Sacajewea by Debra Magpie Earling – Monday\, November 25 at 11:00 AM Meme’s Coffee Shop\, 1529 Johnson Rd or Tuesday\, November 26 at 6:30 PM SMRLD\, 2001 Delmar Ave \n\nCopies of the book are available at both libraries.\nQuestions? Call 618-452-6238 ext. 785
URL:https://www.smrld.org/event/book-club-65/2024-11-26/
LOCATION:Niedringhaus Building\, 2001 Delmar Avenue\, Granite City\, IL\, 62040\, United States
CATEGORIES:Adults
END:VEVENT
BEGIN:VEVENT
DTSTART;TZID=America/Chicago:20241130T090000
DTEND;TZID=America/Chicago:20241130T120000
DTSTAMP:20260423T035853
CREATED:20241119T192930Z
LAST-MODIFIED:20250210T213428Z
UID:10081896-1732957200-1732968000@www.smrld.org
SUMMARY:Coffee & Cocoa Pop-Up Bar
DESCRIPTION:Coffee & Cocoa Pop-Up Bar\nSaturdays\, 9AM – Noon\nNovember 30 – March 15\n2001 Delmar Ave\nWarm Up with a hot beverage
URL:https://www.smrld.org/event/coffee-cocoa-pop-up-bar/2024-11-30/
LOCATION:Niedringhaus Building\, 2001 Delmar Avenue\, Granite City\, IL\, 62040\, United States
CATEGORIES:Adults
END:VEVENT
END:VCALENDAR